BEGIN:VCALENDAR
VERSION:2.0
PRODID:-//Humane Society of North Central Florida - ECPv6.15.20//NONSGML v1.0//EN
CALSCALE:GREGORIAN
METHOD:PUBLISH
X-ORIGINAL-URL:https://www.humanesocietyncfl.org
X-WR-CALDESC:Events for Humane Society of North Central Florida
REFRESH-INTERVAL;VALUE=DURATION:PT1H
X-Robots-Tag:noindex
X-PUBLISHED-TTL:PT1H
BEGIN:VTIMEZONE
TZID:America/New_York
BEGIN:DAYLIGHT
TZOFFSETFROM:-0500
TZOFFSETTO:-0400
TZNAME:EDT
DTSTART:20240310T070000
END:DAYLIGHT
BEGIN:STANDARD
TZOFFSETFROM:-0400
TZOFFSETTO:-0500
TZNAME:EST
DTSTART:20241103T060000
END:STANDARD
BEGIN:DAYLIGHT
TZOFFSETFROM:-0500
TZOFFSETTO:-0400
TZNAME:EDT
DTSTART:20250309T070000
END:DAYLIGHT
BEGIN:STANDARD
TZOFFSETFROM:-0400
TZOFFSETTO:-0500
TZNAME:EST
DTSTART:20251102T060000
END:STANDARD
BEGIN:DAYLIGHT
TZOFFSETFROM:-0500
TZOFFSETTO:-0400
TZNAME:EDT
DTSTART:20260308T070000
END:DAYLIGHT
BEGIN:STANDARD
TZOFFSETFROM:-0400
TZOFFSETTO:-0500
TZNAME:EST
DTSTART:20261101T060000
END:STANDARD
END:VTIMEZONE
BEGIN:VEVENT
DTSTART;TZID=America/New_York:20250302T083000
DTEND;TZID=America/New_York:20250302T110000
DTSTAMP:20260423T233140
CREATED:20250226T180407Z
LAST-MODIFIED:20250226T180407Z
UID:4693-1740904200-1740913200@www.humanesocietyncfl.org
SUMMARY:Dog Days 5k
DESCRIPTION:Join the UF Student American Veterinary Medical Association (SAVMA) for their Dog Days 5k on Sunday\, March 5 at 8:30 a.m. at Depot Park (874 SE 4th St\, Gainesville\, FL 32601)! All proceeds from the event will go to the Humane Society of North Central Florida. Register HERE! \nLAST DAY TO SIGN UP: Wednesday\, Feb. 26\nNote: Wednesday\, February 5th is the last day to order an official Dog Days 5k T-shirt!
URL:https://www.humanesocietyncfl.org/event/dog-days-5k/
LOCATION:Depot Park\, 874 SE 4th St\, Gainesville\, FL\, 32601\, United States
CATEGORIES:Humane Society of North Central Florida
END:VEVENT
BEGIN:VEVENT
DTSTART;TZID=America/New_York:20250302T130000
DTEND;TZID=America/New_York:20250302T153000
DTSTAMP:20260423T233140
CREATED:20250220T182929Z
LAST-MODIFIED:20250225T183048Z
UID:4637-1740920400-1740929400@www.humanesocietyncfl.org
SUMMARY:NY Dog Film Festival
DESCRIPTION:Sunday\, March 02\, 2025 | 1:00 PM\nSaturday\, March 08\, 2025 | 3:30 PM \nHeld at the Hippodrome Theatre’s Cinema\n25 SE 2nd Pl\, Gainesville\, FL 32601\nPhone: (352) 375-4477 \nTickets here \nThe NY Dog Film Festival is a medley of short films – animated\, documentary and narrative – from around the world. These entertaining and inspirational movies celebrate all the ways we love our dogs. At the same time\, we want to raise awareness of the life-saving work being done at small rescues and large shelters. In every location where the Dog Film Festival® travels\, the Humane Society of North Central Florida will be the beneficiary of a portion of every ticket.
URL:https://www.humanesocietyncfl.org/event/ny-dog-film-festival-2/
LOCATION:Hippodrome Theatre\, 25 SE 2nd Pl\, Gainesville\, FL\, 32601\, United States
END:VEVENT
END:VCALENDAR