BEGIN:VCALENDAR
VERSION:2.0
PRODID:-//Humane Society of North Central Florida - ECPv6.15.20//NONSGML v1.0//EN
CALSCALE:GREGORIAN
METHOD:PUBLISH
X-ORIGINAL-URL:https://www.humanesocietyncfl.org
X-WR-CALDESC:Events for Humane Society of North Central Florida
REFRESH-INTERVAL;VALUE=DURATION:PT1H
X-Robots-Tag:noindex
X-PUBLISHED-TTL:PT1H
BEGIN:VTIMEZONE
TZID:America/New_York
BEGIN:DAYLIGHT
TZOFFSETFROM:-0500
TZOFFSETTO:-0400
TZNAME:EDT
DTSTART:20240310T070000
END:DAYLIGHT
BEGIN:STANDARD
TZOFFSETFROM:-0400
TZOFFSETTO:-0500
TZNAME:EST
DTSTART:20241103T060000
END:STANDARD
BEGIN:DAYLIGHT
TZOFFSETFROM:-0500
TZOFFSETTO:-0400
TZNAME:EDT
DTSTART:20250309T070000
END:DAYLIGHT
BEGIN:STANDARD
TZOFFSETFROM:-0400
TZOFFSETTO:-0500
TZNAME:EST
DTSTART:20251102T060000
END:STANDARD
BEGIN:DAYLIGHT
TZOFFSETFROM:-0500
TZOFFSETTO:-0400
TZNAME:EDT
DTSTART:20260308T070000
END:DAYLIGHT
BEGIN:STANDARD
TZOFFSETFROM:-0400
TZOFFSETTO:-0500
TZNAME:EST
DTSTART:20261101T060000
END:STANDARD
END:VTIMEZONE
BEGIN:VEVENT
DTSTART;TZID=America/New_York:20250308T130000
DTEND;TZID=America/New_York:20250308T150000
DTSTAMP:20260423T233138
CREATED:20250220T184212Z
LAST-MODIFIED:20250225T183030Z
UID:4649-1741438800-1741446000@www.humanesocietyncfl.org
SUMMARY:NY Cat Film Festival
DESCRIPTION:Sunday\, March 02\, 2025 | 3:30 PM\nSaturday\, March 08\, 2025 | 1:00 PM \nHeld at the Hippodrome Theatre’s Cinema\n25 SE 2nd Pl\, Gainesville\, FL 32601\nPhone: (352) 375-4477 \nTickets here \nThe NY Cat Film Festival™ is a film exploration of the fascinating felines who share our lives. These are not random internet “cat videos” – these are films made with an intention\, concept or story conveying something essential about cats. Cats have a unique and indescribable bond with people – even when living independently as community cats. For far too long\, felines have been the “invisible” part of the human-animal bond. We wish to shine the spotlight on these magnificent creatures and the humans devoted to them. A portion of each ticket will be donated to the Humane Society of North Central Florida.
URL:https://www.humanesocietyncfl.org/event/ny-cat-film-festival-2/
LOCATION:Hippodrome Theatre\, 25 SE 2nd Pl\, Gainesville\, FL\, 32601\, United States
ORGANIZER;CN="Hippodrome Theatre":MAILTO:boxoffice@thehipp.org
END:VEVENT
BEGIN:VEVENT
DTSTART;TZID=America/New_York:20250308T153000
DTEND;TZID=America/New_York:20250308T173000
DTSTAMP:20260423T233138
CREATED:20250220T183637Z
LAST-MODIFIED:20250225T182901Z
UID:4642-1741447800-1741455000@www.humanesocietyncfl.org
SUMMARY:NY Dog Film Festival
DESCRIPTION:Sunday\, March 02\, 2025 | 1:00 PM\nSaturday\, March 08\, 2025 | 3:30 PM \nHeld at the Hippodrome Theatre’s Cinema\n25 SE 2nd Pl\, Gainesville\, FL 32601\nPhone: (352) 375-4477 \nTickets here \nThe NY Dog Film Festival is a medley of short films – animated\, documentary and narrative – from around the world. These entertaining and inspirational movies celebrate all the ways we love our dogs. At the same time\, we want to raise awareness of the life-saving work being done at small rescues and large shelters. In every location where the Dog Film Festival® travels\, the Humane Society of North Central Florida will be the beneficiary of a portion of every ticket.
URL:https://www.humanesocietyncfl.org/event/ny-dog-film-festival-3/
LOCATION:Hippodrome Theatre\, 25 SE 2nd Pl\, Gainesville\, FL\, 32601\, United States
ORGANIZER;CN="Hippodrome Theatre":MAILTO:boxoffice@thehipp.org
END:VEVENT
END:VCALENDAR