BEGIN:VCALENDAR
VERSION:2.0
PRODID:-//Humane Society of North Central Florida - ECPv6.15.20//NONSGML v1.0//EN
CALSCALE:GREGORIAN
METHOD:PUBLISH
X-WR-CALNAME:Humane Society of North Central Florida
X-ORIGINAL-URL:https://www.humanesocietyncfl.org
X-WR-CALDESC:Events for Humane Society of North Central Florida
REFRESH-INTERVAL;VALUE=DURATION:PT1H
X-Robots-Tag:noindex
X-PUBLISHED-TTL:PT1H
BEGIN:VTIMEZONE
TZID:America/New_York
BEGIN:DAYLIGHT
TZOFFSETFROM:-0500
TZOFFSETTO:-0400
TZNAME:EDT
DTSTART:20240310T070000
END:DAYLIGHT
BEGIN:STANDARD
TZOFFSETFROM:-0400
TZOFFSETTO:-0500
TZNAME:EST
DTSTART:20241103T060000
END:STANDARD
BEGIN:DAYLIGHT
TZOFFSETFROM:-0500
TZOFFSETTO:-0400
TZNAME:EDT
DTSTART:20250309T070000
END:DAYLIGHT
BEGIN:STANDARD
TZOFFSETFROM:-0400
TZOFFSETTO:-0500
TZNAME:EST
DTSTART:20251102T060000
END:STANDARD
BEGIN:DAYLIGHT
TZOFFSETFROM:-0500
TZOFFSETTO:-0400
TZNAME:EDT
DTSTART:20260308T070000
END:DAYLIGHT
BEGIN:STANDARD
TZOFFSETFROM:-0400
TZOFFSETTO:-0500
TZNAME:EST
DTSTART:20261101T060000
END:STANDARD
END:VTIMEZONE
BEGIN:VEVENT
DTSTART;VALUE=DATE:20250701
DTEND;VALUE=DATE:20250831
DTSTAMP:20260423T173214
CREATED:20260410T160948Z
LAST-MODIFIED:20260411T011431Z
UID:6452-1751328000-1756598399@www.humanesocietyncfl.org
SUMMARY:Summer Adoptions
DESCRIPTION:From now through the end of August\, the adoption fee for all adult dogs AND cats (5+ months) is $50! \nTo meet one of our dogs\, we will set up a meet and greet:\nPlease complete an adoption application today: www.shelterluv.com/matchme/adopt/CHUA/Dog \nTo meet any of our cats:\nStop by during visiting hours:\n🕘 9:30 a.m. – 4:45 p.m. (Closed 12–1 p.m. for lunch) \nWant to save time? Complete an adoption application before visiting our cat rooms at www.shelterluv.com/matchme/adopt/CHUA/Cat. \nApplications are valid for a full year\, so even if you don’t find your match today\, you’ll be ready when you do. \nCome meet your future friend! \nThanks to the ASPCA\, we’ll be offering reduced adoption fees for adult cats and dogs 5 months and older. \n\nDogs: $100\nCats: $50\n\n  \nAll of our adoptable pets are spayed/neutered\, microchipped\, and up-to-date on vaccines. \n  \nSee who’s available here: humanesocietyncfl.org/adopt
URL:https://www.humanesocietyncfl.org/event/summer-adoptions/
LOCATION:Humane Society of North Central Florida\, 4205 NW 6th Street\, Gainesville\, FL\, 32609\, United States
CATEGORIES:Humane Society of North Central Florida
ORGANIZER;CN="Humane Society of North Central Florida":MAILTO:franziska@humanesocietyncfl.org
END:VEVENT
BEGIN:VEVENT
DTSTART;TZID=America/New_York:20250726T140000
DTEND;TZID=America/New_York:20250726T180000
DTSTAMP:20260423T173214
CREATED:20250721T154814Z
LAST-MODIFIED:20250721T154814Z
UID:5337-1753538400-1753552800@www.humanesocietyncfl.org
SUMMARY:Beer Can Release Party
DESCRIPTION:The Beer Cans Are Here! Join us at First Magnitude Brewing Company on Saturday\, July 26\, from 2–6 p.m. for the big reveal of our official beer cans featuring the winners of the 2025 Beer Cover Pet Photo Contest! \nThere will be food trucks all day and live music by Banded Brothers from 4–6 p.m.\, so come grab a pint\, meet fellow pet lovers\, and celebrate our amazing cover stars! \nA huge THANK YOU to everyone who submitted photos\, voted\, and helped us blow past our fundraising goal. Let’s raise a glass to pets\, pints\, and the power of community! \nLocation: First Magnitude Brewing Company\, 1220 SE Veitch St.\, Gainesville\, FL 32601Date: Saturday\, July 26Time: 2-6 p.m.
URL:https://www.humanesocietyncfl.org/event/beer-can-release-party/
LOCATION:First Magnitude Brewery Co.\, 1220 SE Veitch St\, Gainesville\, FL\, 32601\, United States
CATEGORIES:Photo Contest
ORGANIZER;CN="First Magnitude Brewing Company":MAILTO:info@fmbrewing.com
END:VEVENT
END:VCALENDAR