BEGIN:VCALENDAR
VERSION:2.0
PRODID:-//Humane Society of North Central Florida - ECPv6.15.20//NONSGML v1.0//EN
CALSCALE:GREGORIAN
METHOD:PUBLISH
X-WR-CALNAME:Humane Society of North Central Florida
X-ORIGINAL-URL:https://www.humanesocietyncfl.org
X-WR-CALDESC:Events for Humane Society of North Central Florida
REFRESH-INTERVAL;VALUE=DURATION:PT1H
X-Robots-Tag:noindex
X-PUBLISHED-TTL:PT1H
BEGIN:VTIMEZONE
TZID:America/New_York
BEGIN:DAYLIGHT
TZOFFSETFROM:-0500
TZOFFSETTO:-0400
TZNAME:EDT
DTSTART:20250309T070000
END:DAYLIGHT
BEGIN:STANDARD
TZOFFSETFROM:-0400
TZOFFSETTO:-0500
TZNAME:EST
DTSTART:20251102T060000
END:STANDARD
BEGIN:DAYLIGHT
TZOFFSETFROM:-0500
TZOFFSETTO:-0400
TZNAME:EDT
DTSTART:20260308T070000
END:DAYLIGHT
BEGIN:STANDARD
TZOFFSETFROM:-0400
TZOFFSETTO:-0500
TZNAME:EST
DTSTART:20261101T060000
END:STANDARD
BEGIN:DAYLIGHT
TZOFFSETFROM:-0500
TZOFFSETTO:-0400
TZNAME:EDT
DTSTART:20270314T070000
END:DAYLIGHT
BEGIN:STANDARD
TZOFFSETFROM:-0400
TZOFFSETTO:-0500
TZNAME:EST
DTSTART:20271107T060000
END:STANDARD
END:VTIMEZONE
BEGIN:VEVENT
DTSTART;TZID=America/New_York:20260201T120000
DTEND;TZID=America/New_York:20260201T150000
DTSTAMP:20260423T060844
CREATED:20251210T151250Z
LAST-MODIFIED:20260131T180422Z
UID:5942-1769947200-1769958000@www.humanesocietyncfl.org
SUMMARY:Hogtown Brewers Beer & Food Pairing Event
DESCRIPTION:Join us for Hogtown Brewers Beer and Food Pairing Event\nExperience a fun-filled beer and food pairing event hosted by the Hogtown Brewers at First Magnitude Brewing Co. Enjoy homebrew beer & appetizer pairings crafted by the talented Hogtown Brewers\, vote for your favorite combinations\, and participate in an exciting silent auction. All proceeds benefit the Humane Society of North Central Florida\, supporting our mission to care for and find loving homes for animals in need. \n📅 Date: Sunday\, February 1\, 2026⏰ Time: 12:00 PM – 3:00 PM📍 Location: First Magnitude Brewing Co.\, 1220 SE Veitch St\, Gainesville\, FL 32601🎟️ Tickets: $50 – includes homebrew beer & appetizer pairings plus a pint from First Magnitude Brewing Co. \nJoin us for great food\, tasty beer\, and wonderful company\, all for a pawsitive cause! This event tends to sell out\, so please purchase your tickets as soon as possible. \nNew This Year: Sponsorship Opportunities! \n\nFood/Beer Station Sponsor – $150: Your logo or name will be displayed at a pairing station\, featured on our social media\, and included on our website.\nTitle Sponsor: Want to be recognized as the presenting sponsor? Your name/logo will be featured prominently in all event promotions\, signage\, and on our website. Contact us for details on becoming a Title Sponsor.\n\nSupport your local brewers\, enjoy amazing pairings\, and help make a difference in the lives of animals in our community! \nThis event is held rain or shine. No refunds will be issued. Tickets are charitable donations made in support of the Humane Society of North Central Florida. \n \n﻿\n\nThanks to our Table Sponsors \n  \n \n \n \n \n  \n  \n \n  \n  \n \n  \n  \n  \n  \n \n  \n  \n  \n \n  \n  \n  \n 
URL:https://www.humanesocietyncfl.org/event/hogtown-brewers-beer-food-pairing-event-2/
LOCATION:First Magnitude Brewery Co.\, 1220 SE Veitch St\, Gainesville\, FL\, 32601\, United States
END:VEVENT
END:VCALENDAR