BEGIN:VCALENDAR
VERSION:2.0
PRODID:-//Humane Society of North Central Florida - ECPv6.15.20//NONSGML v1.0//EN
CALSCALE:GREGORIAN
METHOD:PUBLISH
X-ORIGINAL-URL:https://www.humanesocietyncfl.org
X-WR-CALDESC:Events for Humane Society of North Central Florida
REFRESH-INTERVAL;VALUE=DURATION:PT1H
X-Robots-Tag:noindex
X-PUBLISHED-TTL:PT1H
BEGIN:VTIMEZONE
TZID:America/New_York
BEGIN:DAYLIGHT
TZOFFSETFROM:-0500
TZOFFSETTO:-0400
TZNAME:EDT
DTSTART:20250309T070000
END:DAYLIGHT
BEGIN:STANDARD
TZOFFSETFROM:-0400
TZOFFSETTO:-0500
TZNAME:EST
DTSTART:20251102T060000
END:STANDARD
BEGIN:DAYLIGHT
TZOFFSETFROM:-0500
TZOFFSETTO:-0400
TZNAME:EDT
DTSTART:20260308T070000
END:DAYLIGHT
BEGIN:STANDARD
TZOFFSETFROM:-0400
TZOFFSETTO:-0500
TZNAME:EST
DTSTART:20261101T060000
END:STANDARD
BEGIN:DAYLIGHT
TZOFFSETFROM:-0500
TZOFFSETTO:-0400
TZNAME:EDT
DTSTART:20270314T070000
END:DAYLIGHT
BEGIN:STANDARD
TZOFFSETFROM:-0400
TZOFFSETTO:-0500
TZNAME:EST
DTSTART:20271107T060000
END:STANDARD
END:VTIMEZONE
BEGIN:VEVENT
DTSTART;VALUE=DATE:20260218
DTEND;VALUE=DATE:20260222
DTSTAMP:20260423T060855
CREATED:20260204T132403Z
LAST-MODIFIED:20260210T144636Z
UID:6253-1771372800-1771718399@www.humanesocietyncfl.org
SUMMARY:Paw-Fect Match - Adoption Event
DESCRIPTION:Looking for your forever Valentine? Join us for our Paw-fect Match Adoption Event Days! \nDates: Wednesday\, February 18 – Saturday\, January 21\nTimes: Dogs & Cats*: 1:00 PM to 3:00 PM\n* Cat & Kitten Rooms are open from: 10:00 AM – 12:00 PM and 1:00 PM – 4:30 PM/Dog Kennels are only accessible from 1:00 PM to 3:00 PM  \nView Adoptable Animals\nCats: https://www.humanesocietyncfl.org/adopt/cats-kittens/\nDogs: https://www.humanesocietyncfl.org/adopt/dogs-puppies/ \nAdoption Fees during the event:\nAdult Cats (5 months and older): $50\nAdult Dogs (5 months and older): $100\nAll adoptable dogs & cats are sterilized\, microchipped\, and up-to-date on vaccines. \n\nFoster-Based Animals\nIf an animal’s location is listed as “Foster\,” they are currently living in a foster home. To arrange a meet-and-greet: \n\nComplete an adoption application (cat or dog)\nEmail info@humanesocietyncfl.org or call 352-373-5855 to schedule your visit\n\nFind your perfect match! Give the ultimate Valentine’s gift—a forever home!💙🐾
URL:https://www.humanesocietyncfl.org/event/paw-fect-match-adoption-event/
LOCATION:Humane Society of North Central Florida\, 4205 NW 6th Street\, Gainesville\, FL\, 32609\, United States
ORGANIZER;CN="Humane Society of North Central Florida":MAILTO:franziska@humanesocietyncfl.org
END:VEVENT
END:VCALENDAR