BEGIN:VCALENDAR
VERSION:2.0
PRODID:-//Humane Society of North Central Florida - ECPv6.15.20//NONSGML v1.0//EN
CALSCALE:GREGORIAN
METHOD:PUBLISH
X-WR-CALNAME:Humane Society of North Central Florida
X-ORIGINAL-URL:https://www.humanesocietyncfl.org
X-WR-CALDESC:Events for Humane Society of North Central Florida
REFRESH-INTERVAL;VALUE=DURATION:PT1H
X-Robots-Tag:noindex
X-PUBLISHED-TTL:PT1H
BEGIN:VTIMEZONE
TZID:America/New_York
BEGIN:DAYLIGHT
TZOFFSETFROM:-0500
TZOFFSETTO:-0400
TZNAME:EDT
DTSTART:20240310T070000
END:DAYLIGHT
BEGIN:STANDARD
TZOFFSETFROM:-0400
TZOFFSETTO:-0500
TZNAME:EST
DTSTART:20241103T060000
END:STANDARD
BEGIN:DAYLIGHT
TZOFFSETFROM:-0500
TZOFFSETTO:-0400
TZNAME:EDT
DTSTART:20250309T070000
END:DAYLIGHT
BEGIN:STANDARD
TZOFFSETFROM:-0400
TZOFFSETTO:-0500
TZNAME:EST
DTSTART:20251102T060000
END:STANDARD
BEGIN:DAYLIGHT
TZOFFSETFROM:-0500
TZOFFSETTO:-0400
TZNAME:EDT
DTSTART:20260308T070000
END:DAYLIGHT
BEGIN:STANDARD
TZOFFSETFROM:-0400
TZOFFSETTO:-0500
TZNAME:EST
DTSTART:20261101T060000
END:STANDARD
END:VTIMEZONE
BEGIN:VEVENT
DTSTART;TZID=America/New_York:20251003T110000
DTEND;TZID=America/New_York:20251003T220000
DTSTAMP:20260423T164258
CREATED:20250922T180949Z
LAST-MODIFIED:20250922T180949Z
UID:5639-1759489200-1759528800@www.humanesocietyncfl.org
SUMMARY:Chow for a Cause: P.F. Chang's Fundraiser Day
DESCRIPTION:Join us for Chow for a Cause\, a delicious way to support our shelter on Friday\, October 3! On the first Friday of every month\, dine (or take out!) at P.F. Chang’s in Butler Town Center from 11 a.m. to 10 p.m.\, and when you MENTION Humane Society of North Central Florida\, 10% of all sales will be donated to our shelter. \nLocation: P.F. Chang’s – Butler Town Center\, 3597 SW 32nd Ct\, Gainesville\, FL 32608
URL:https://www.humanesocietyncfl.org/event/chow-for-a-cause-oct/
LOCATION:P.F. Chang’s\, 3597 SW 32nd Ct\, Gainesville\, FL\, 32608\, United States
CATEGORIES:Humane Society of North Central Florida,P.F. Chang's
END:VEVENT
BEGIN:VEVENT
DTSTART;TZID=America/New_York:20251011T110000
DTEND;TZID=America/New_York:20251011T150000
DTSTAMP:20260423T164258
CREATED:20251001T191106Z
LAST-MODIFIED:20251001T191106Z
UID:5690-1760180400-1760194800@www.humanesocietyncfl.org
SUMMARY:Howl-O-Ween Adoption Event
DESCRIPTION:Howl-O-Ween Adoption Event! Join us on Saturday\, October 11th\, from 11 a.m. to 3 p.m. at the Humane Society of North Central Florida for our Howl-O-Ween Adoption Event\, presented by Subaru of Gainesville. \nThanks to the ASPCA\, we’ll be offering reduced adoption fees for adult cats and dogs 5 months and older. It’s a great time to meet our adoptable pets and maybe even find your perfect match. \n\n\nSee who’s available here: humanesocietyncfl.org/adopt\n\nAll adoptable dogs are sterilized\, microchipped\, and up-to-date on vaccines.
URL:https://www.humanesocietyncfl.org/event/halloween-adoption-event/
LOCATION:Humane Society of North Central Florida\, 4205 NW 6th Street\, Gainesville\, FL\, 32609\, United States
CATEGORIES:Humane Society of North Central Florida
ORGANIZER;CN="Humane Society of North Central Florida":MAILTO:franziska@humanesocietyncfl.org
END:VEVENT
BEGIN:VEVENT
DTSTART;TZID=America/New_York:20251016T180000
DTEND;TZID=America/New_York:20251016T210000
DTSTAMP:20260423T164258
CREATED:20250923T142200Z
LAST-MODIFIED:20250923T142200Z
UID:5658-1760637600-1760648400@www.humanesocietyncfl.org
SUMMARY:Barktoberfest Wine Tasting
DESCRIPTION:Join for Bartoberfest Wine Tasting at Public & General\, benefiting our shelter\, on Thursday\, October 16\, from 6 to 9 p.m. Guests will sample six German wines for $25 with full glasses and bottle specials also available\, as well as a special cocktail\, beer\, and some German-inspired treats! Dogs welcome! \n\nCome enjoy some amazing food and drink with us and support our efforts at the Humane Society of North Central Florida. \nLearn more HERE!
URL:https://www.humanesocietyncfl.org/event/barktoberfest-wine-tasting/
LOCATION:Public & General\, 1000 NE 16th Ave\, Gainesville\, FL\, 32601
CATEGORIES:Humane Society of North Central Florida
ORGANIZER;CN="Public & General":MAILTO:publicandgeneral@gmail.com
END:VEVENT
END:VCALENDAR