BEGIN:VCALENDAR
VERSION:2.0
PRODID:-//Humane Society of North Central Florida - ECPv6.15.20//NONSGML v1.0//EN
CALSCALE:GREGORIAN
METHOD:PUBLISH
X-WR-CALNAME:Humane Society of North Central Florida
X-ORIGINAL-URL:https://www.humanesocietyncfl.org
X-WR-CALDESC:Events for Humane Society of North Central Florida
REFRESH-INTERVAL;VALUE=DURATION:PT1H
X-Robots-Tag:noindex
X-PUBLISHED-TTL:PT1H
BEGIN:VTIMEZONE
TZID:UTC
BEGIN:STANDARD
TZOFFSETFROM:+0000
TZOFFSETTO:+0000
TZNAME:UTC
DTSTART:20240101T000000
END:STANDARD
END:VTIMEZONE
BEGIN:VEVENT
DTSTART;TZID=UTC:20251106T173000
DTEND;TZID=UTC:20251106T210000
DTSTAMP:20260423T164631
CREATED:20250809T124339Z
LAST-MODIFIED:20251104T202214Z
UID:5379-1762450200-1762462800@www.humanesocietyncfl.org
SUMMARY:Woofstock 2025
DESCRIPTION:Day(s) \n					\n						: \n					\n						 \n						Hour(s) \n					\n						: \n					\n						 \n						Minute(s) \n					\n						: \n					\n						 \n						Second(s) \n					\n				\n			\n			\n				\n				\n				\n				\n			\n				\n				\n				\n				\n				\n				\n				\n				\n				\n				\n				Get ready! Woofstock is back for its 10TH YEAR! Presented by Fine\, Farkash & Parlapiano\, P.A.\, this unforgettable evening helps raise critical funds for the Humane Society of North Central Florida. Since it began\, Woofstock has raised over $300\,000 to support animals in need\, and we’re not slowing down. \nJoin us on Thursday\, November 6\, 2025\, at the beautiful Santa Fe River Ranch in Alachua for a night to remember. Enjoy a stunning sunset\, music\, delicious food and drinks\, a silent auction\, and more—all to benefit our mission of saving lives and ending needless euthanasia in our community. \nDon’t miss your chance to make an impact while having a great time. We’ll see you there! \n			\n			\n				\n				\n				\n				\n			\n				\n				\n			\n				\n				\n				\n				\n				\n				\n				\n				\n				\n				\n				\n				\n				\n				\n				\n				\n				\n				Get Your Tickets Now!\n			\n				Purchase Tickets Here\n			\n				\n				\n				\n				\n				Get your tickets by Saturday\, November 1st! \n			\n			\n				\n				\n				\n				\n				\n				\n				\n				\n				\n				Online Auction \n			\n				Check Out Our Auction\n			\n				\n				\n				\n				\n				Bid from anywhere — no ticket needed. You do not need to attend Woofstock to bid and win!Closes Nov 6 at 8:30 PM. Don’t miss out! \n			\n			\n				\n				\n				\n				\n			\n				\n				\n			\n				\n				\n				\n				\n				\n				\n				\n				\n				\n				\n				\n				\n				\n				\n				\n				\n				\n				Event Details\n			\n				\n				\n				\n				\n				Thursday\, November 6\, 2025 │ 5:30 p.m. – 9 p.m. \n			\n				\n				\n				\n				\n				Santa Fe River Ranch │ 29220 NW 122nd Street\, Alachua\, FL 32615 \n			\n			\n				\n				\n				\n				\n			\n				\n				\n				\n				\n				\n				\n				\n				\n				\n				\n				Sponsorship Oppurtunties\n			\n				\n				\n				\n				\n				Become a sponsor! This year\, we’ve launched our Purrs & Barks Partnership packages—year-round sponsorship opportunities that include Woofstock benefits along with ongoing visibility and impact. Learn more here. \nFor those interested in Woofstock-only sponsorships\, we are offering: \n• Paw & Peace – $500 cash ($1\,000 in-kind)Includes: 2 event tickets and recognition in digital\, print\, social media\, and email promotions \n• Flower Power – $1\,500 cash ($3\,000 in-kind)Includes: 4 event tickets\, plus recognition in digital\, print\, social media\, and email promotions and 1 complimentary Rescued Hearts 2026 Calendar \nMake sure to wrap up your sponsorship packet by Friday\, October 17th\, or earlier to maximize all the benefits coming your way!\n			\n				Reserve your Woofstock Sponsorship\n			\n				Download the Sponsorship Packet\n			\n			\n				\n				\n				\n				\n			\n				\n				\n				\n				\n				\n				\n				\n				\n				\n				\n				For more information\, please contact our Development Team at 352.373.5855 ext. 718 or development@humanesocietyncfl.org \n			\n			\n				\n				\n				\n				\n			\n				\n				\n			\n				\n				\n				\n				\n				\n				\n				\n				\n				\n				\n				\n				\n				\n				\n				\n				\n				\n				A big thanks to our amazing \n			\n				\n				\n				\n				\n				Food & Drink Providers:\n			\n			\n				\n				\n				\n				\n			\n				\n				\n				\n				\n				\n				\n				\n				\n				\n				\n				\n			\n			\n				\n				\n				\n				\n				\n				\n				\n				\n				\n				\n			\n			\n				\n				\n				\n				\n				\n				\n				\n				\n				\n				\n			\n			\n				\n				\n				\n				\n				\n				\n				\n				\n				\n				\n			\n			\n				\n				\n				\n				\n			\n				\n				\n			\n				\n				\n				\n				\n				\n				\n				\n				\n				\n				\n				\n				\n				\n				\n				\n				\n				\n				Thank you to our Sponsors!\n			\n			\n				\n				\n				\n				\n			\n				\n				\n				\n				\n				\n				\n				\n				\n				\n				\n				2025 Presenting & Woofstock Title Sponsor\n			\n				\n				\n				\n				\n				\n			\n			\n				\n				\n				\n				\n			\n				\n				\n				\n				\n				\n				\n				\n				\n				\n				\n				Purrs & Barks Sponsors\n			\n			\n				\n				\n				\n				\n			\n				\n				\n				\n				\n				\n				\n				\n				\n				\n				\n				\n			\n			\n				\n				\n				\n				\n				\n				\n				\n				\n				\n				\n			\n			\n				\n				\n				\n				\n				\n				\n				\n				\n				\n				\n			\n			\n				\n				\n				\n				\n				\n				\n				\n				\n				\n				\n			\n				\n				\n				\n				\n				\n			\n			\n				\n				\n				\n				\n				\n				\n				\n				\n				\n				\n			\n				\n				\n				\n				\n				\n			\n			\n				\n				\n				\n				\n				\n				\n				\n				\n				\n				\n			\n			\n				\n				\n				\n				\n			\n				\n				\n				\n				\n				\n				\n				\n				\n				\n				\n				In-Kind Event Donors\n			\n			\n				\n				\n				\n				\n			\n				\n				\n				\n				\n				\n				\n			\n				\n				\n				\n				\n				\n			\n				\n				\n				\n				\n				\n				\n				\n				\n				\n				\n			\n			\n				\n				\n				\n				\n				\n				\n				\n				\n				\n				\n			\n			\n				\n				\n				\n				\n				\n			\n				\n				\n				\n				\n				\n			\n				\n				\n				\n				\n			\n				\n				\n				\n				\n				\n				\n			\n				\n				\n				\n				\n			\n				\n				\n				\n				\n				\n				\n				\n				\n				\n				\n				Flower Power Level\n			\n			\n				\n				\n				\n				\n			\n				\n				\n				\n				\n				\n				\n				\n				\n				\n				\n				\n			\n			\n				\n				\n				\n				\n				\n			\n				\n				\n				\n				\n				\n			\n				\n				\n				\n				\n				\n			\n				\n				\n				\n				\n			\n				\n				\n				\n				\n				\n				\n				\n				\n				\n				\n				Paws & Peace Level\n			\n			\n				\n				\n				\n				\n			\n				\n				\n				\n				\n				\n				\n				\n				\n				\n				\n				\n			\n			\n				\n				\n				\n				\n				\n				\n				\n				\n				\n				\n			\n			\n				\n				\n				\n				\n				\n				\n				\n				\n				\n				\n			\n			\n				\n				\n				\n				\n				\n				\n				\n				\n				\n				\n			\n			\n				\n				\n				\n				\n				\n				\n				\n				\n				\n				Genevia Hendry\n			\n			\n				\n				\n				\n				\n			\n				\n				\n				\n				\n				\n				\n				\n				\n				\n				\n				Silent Auction Contributors\n			\n				\n				\n				\n				\n				Our silent auction is packed with amazing treasures from these fantastic companies and many more!
URL:https://www.humanesocietyncfl.org/event/woofstock-2025/
LOCATION:Santa Fe River Ranch\, 29220 NW 122nd Street\, Alachua\, FL\, 32615\, United States
CATEGORIES:Woofstock
ATTACH;FMTTYPE=image/png:https://www.humanesocietyncfl.org/wp-content/uploads/2025/08/Woofstock-2025-SM-Post-Long.png
ORGANIZER;CN="Humane Society of North Central Florida":MAILTO:franziska@humanesocietyncfl.org
END:VEVENT
END:VCALENDAR