BEGIN:VCALENDAR
VERSION:2.0
PRODID:-//Humane Society of North Central Florida - ECPv6.15.20//NONSGML v1.0//EN
CALSCALE:GREGORIAN
METHOD:PUBLISH
X-WR-CALNAME:Humane Society of North Central Florida
X-ORIGINAL-URL:https://www.humanesocietyncfl.org
X-WR-CALDESC:Events for Humane Society of North Central Florida
REFRESH-INTERVAL;VALUE=DURATION:PT1H
X-Robots-Tag:noindex
X-PUBLISHED-TTL:PT1H
BEGIN:VTIMEZONE
TZID:America/New_York
BEGIN:DAYLIGHT
TZOFFSETFROM:-0500
TZOFFSETTO:-0400
TZNAME:EDT
DTSTART:20230312T070000
END:DAYLIGHT
BEGIN:STANDARD
TZOFFSETFROM:-0400
TZOFFSETTO:-0500
TZNAME:EST
DTSTART:20231105T060000
END:STANDARD
BEGIN:DAYLIGHT
TZOFFSETFROM:-0500
TZOFFSETTO:-0400
TZNAME:EDT
DTSTART:20240310T070000
END:DAYLIGHT
BEGIN:STANDARD
TZOFFSETFROM:-0400
TZOFFSETTO:-0500
TZNAME:EST
DTSTART:20241103T060000
END:STANDARD
BEGIN:DAYLIGHT
TZOFFSETFROM:-0500
TZOFFSETTO:-0400
TZNAME:EDT
DTSTART:20250309T070000
END:DAYLIGHT
BEGIN:STANDARD
TZOFFSETFROM:-0400
TZOFFSETTO:-0500
TZNAME:EST
DTSTART:20251102T060000
END:STANDARD
END:VTIMEZONE
BEGIN:VEVENT
DTSTART;TZID=America/New_York:20240803T110000
DTEND;TZID=America/New_York:20240803T150000
DTSTAMP:20260423T174741
CREATED:20240718T185358Z
LAST-MODIFIED:20240725T140211Z
UID:3875-1722682800-1722697200@www.humanesocietyncfl.org
SUMMARY:Parks Ford Adoption Event - Dogs & Cats
DESCRIPTION:We’ll be at Parks Ford of Gainesville and Parks Hyundai of Gainesville on Saturday\, August 3rd from 11 am to 3 pm with some of our lovable cats and dogs looking for forever homes. Come find your FURever friend and take them home! \nDogs will be located at Parks Ford of Gainesville – 3333 N Main St\, Gainesville\, FL 32609\nCats will be located at Parks Hyundai of Gainesville – 3111 N Main St\, Gainesville\, FL 32609 \nAnd once again\, thanks to Parks Ford of Gainesville\, ALL adoption fees are waived! \nVisit our website by clicking the link below to view our available animals! https://www.humanesocietyncfl.org/adopt/ \nAdoptable animals are sterilized\, vaccinated\, and microchipped prior to adoption.
URL:https://www.humanesocietyncfl.org/event/parks-ford-adoption-event/
LOCATION:Parks Ford\, 3333 N Main St\, Gainesville\, FL\, 32609\, United States
CATEGORIES:Parks Ford
ORGANIZER;CN="Humane Society of North Central Florida":MAILTO:franziska@humanesocietyncfl.org
END:VEVENT
BEGIN:VEVENT
DTSTART;TZID=America/New_York:20240713T110000
DTEND;TZID=America/New_York:20240713T150000
DTSTAMP:20260423T174741
CREATED:20240612T143745Z
LAST-MODIFIED:20240626T184113Z
UID:3773-1720868400-1720882800@www.humanesocietyncfl.org
SUMMARY:Parks Ford Adoption Event
DESCRIPTION:Come see us at Parks Ford on Saturday\, July 13 from 11 am – 3 pm. Our pets will be located at 3333 N Main Street.\n\nAll adoption fees are WAIVED thanks to Parks of Gainesville!\n\nAdoptable animals are sterilized\, vaccinated\, and microchipped prior to adoption.
URL:https://www.humanesocietyncfl.org/event/parks-ford-adoption-event-dogs/
LOCATION:Parks Ford\, 3333 N Main St\, Gainesville\, FL\, 32609\, United States
CATEGORIES:Parks Ford
ORGANIZER;CN="Humane Society of North Central Florida":MAILTO:franziska@humanesocietyncfl.org
END:VEVENT
END:VCALENDAR