BEGIN:VCALENDAR
VERSION:2.0
PRODID:-//Humane Society of North Central Florida - ECPv6.15.20//NONSGML v1.0//EN
CALSCALE:GREGORIAN
METHOD:PUBLISH
X-ORIGINAL-URL:https://www.humanesocietyncfl.org
X-WR-CALDESC:Events for Humane Society of North Central Florida
REFRESH-INTERVAL;VALUE=DURATION:PT1H
X-Robots-Tag:noindex
X-PUBLISHED-TTL:PT1H
BEGIN:VTIMEZONE
TZID:America/New_York
BEGIN:DAYLIGHT
TZOFFSETFROM:-0500
TZOFFSETTO:-0400
TZNAME:EDT
DTSTART:20230312T070000
END:DAYLIGHT
BEGIN:STANDARD
TZOFFSETFROM:-0400
TZOFFSETTO:-0500
TZNAME:EST
DTSTART:20231105T060000
END:STANDARD
BEGIN:DAYLIGHT
TZOFFSETFROM:-0500
TZOFFSETTO:-0400
TZNAME:EDT
DTSTART:20240310T070000
END:DAYLIGHT
BEGIN:STANDARD
TZOFFSETFROM:-0400
TZOFFSETTO:-0500
TZNAME:EST
DTSTART:20241103T060000
END:STANDARD
BEGIN:DAYLIGHT
TZOFFSETFROM:-0500
TZOFFSETTO:-0400
TZNAME:EDT
DTSTART:20250309T070000
END:DAYLIGHT
BEGIN:STANDARD
TZOFFSETFROM:-0400
TZOFFSETTO:-0500
TZNAME:EST
DTSTART:20251102T060000
END:STANDARD
BEGIN:DAYLIGHT
TZOFFSETFROM:-0500
TZOFFSETTO:-0400
TZNAME:EDT
DTSTART:20260308T070000
END:DAYLIGHT
BEGIN:STANDARD
TZOFFSETFROM:-0400
TZOFFSETTO:-0500
TZNAME:EST
DTSTART:20261101T060000
END:STANDARD
END:VTIMEZONE
BEGIN:VEVENT
DTSTART;TZID=America/New_York:20250301T110000
DTEND;TZID=America/New_York:20250301T150000
DTSTAMP:20260423T161546
CREATED:20250219T151200Z
LAST-MODIFIED:20250219T151200Z
UID:4602-1740826800-1740841200@www.humanesocietyncfl.org
SUMMARY:Petco Adoption Event
DESCRIPTION:Join us at Petco on Saturday\, March 1 from 11 a.m. to 3 p.m. to meet some of our lovable animals searching for their forever homes. \nWant a sneak peek? Visit our website to see all our adoptable cats & dogs: www.humanesocietyncfl.org/adopt \nAll adoptable animals are sterilized\, microchipped\, and up-to-date on vaccines.
URL:https://www.humanesocietyncfl.org/event/petco-adoption-event/
LOCATION:Petco\, 6869 W Newberry Rd\, Gainesville\, 32605\, United States
CATEGORIES:Humane Society of North Central Florida,Petco
ORGANIZER;CN="Humane Society of North Central Florida":MAILTO:franziska@humanesocietyncfl.org
END:VEVENT
BEGIN:VEVENT
DTSTART;TZID=America/New_York:20240824T110000
DTEND;TZID=America/New_York:20240824T150000
DTSTAMP:20260423T161546
CREATED:20240814T151832Z
LAST-MODIFIED:20240814T152118Z
UID:3975-1724497200-1724511600@www.humanesocietyncfl.org
SUMMARY:Clear the Shelters Petco Adoption Event - Dogs & Cats
DESCRIPTION:We’re thrilled to host a Clear the Shelters adoption event at Petco on Saturday\, August 24\, from 11 AM to 3 PM. Join us at 6869 W Newberry Rd\, Gainesville\, FL 32605 to find your new furry family member. We’ll have dogs\, puppies\, cats\, AND kittens! \nNBCUniversal Local is teaming up with hundreds of shelters across the nation\, including ours\, for Clear The  Shelters this August to September! This incredible campaign is all about finding loving homes for animals in need. \nVisit our website by clicking the link below to view our available animals! https://www.humanesocietyncfl.org/adopt/ \nAdoptable animals are sterilized\, vaccinated\, and microchipped prior to adoption.
URL:https://www.humanesocietyncfl.org/event/petco-adoption-event-dogs-cats/
LOCATION:Petco\, 6869 W Newberry Rd\, Gainesville\, 32605\, United States
CATEGORIES:Petco
ORGANIZER;CN="Humane Society of North Central Florida":MAILTO:franziska@humanesocietyncfl.org
END:VEVENT
END:VCALENDAR