BEGIN:VCALENDAR
VERSION:2.0
PRODID:-//Humane Society of North Central Florida - ECPv6.15.20//NONSGML v1.0//EN
CALSCALE:GREGORIAN
METHOD:PUBLISH
X-WR-CALNAME:Humane Society of North Central Florida
X-ORIGINAL-URL:https://www.humanesocietyncfl.org
X-WR-CALDESC:Events for Humane Society of North Central Florida
REFRESH-INTERVAL;VALUE=DURATION:PT1H
X-Robots-Tag:noindex
X-PUBLISHED-TTL:PT1H
BEGIN:VTIMEZONE
TZID:America/New_York
BEGIN:DAYLIGHT
TZOFFSETFROM:-0500
TZOFFSETTO:-0400
TZNAME:EDT
DTSTART:20230312T070000
END:DAYLIGHT
BEGIN:STANDARD
TZOFFSETFROM:-0400
TZOFFSETTO:-0500
TZNAME:EST
DTSTART:20231105T060000
END:STANDARD
BEGIN:DAYLIGHT
TZOFFSETFROM:-0500
TZOFFSETTO:-0400
TZNAME:EDT
DTSTART:20240310T070000
END:DAYLIGHT
BEGIN:STANDARD
TZOFFSETFROM:-0400
TZOFFSETTO:-0500
TZNAME:EST
DTSTART:20241103T060000
END:STANDARD
BEGIN:DAYLIGHT
TZOFFSETFROM:-0500
TZOFFSETTO:-0400
TZNAME:EDT
DTSTART:20250309T070000
END:DAYLIGHT
BEGIN:STANDARD
TZOFFSETFROM:-0400
TZOFFSETTO:-0500
TZNAME:EST
DTSTART:20251102T060000
END:STANDARD
BEGIN:DAYLIGHT
TZOFFSETFROM:-0500
TZOFFSETTO:-0400
TZNAME:EDT
DTSTART:20260308T070000
END:DAYLIGHT
BEGIN:STANDARD
TZOFFSETFROM:-0400
TZOFFSETTO:-0500
TZNAME:EST
DTSTART:20261101T060000
END:STANDARD
BEGIN:DAYLIGHT
TZOFFSETFROM:-0500
TZOFFSETTO:-0400
TZNAME:EDT
DTSTART:20270314T070000
END:DAYLIGHT
BEGIN:STANDARD
TZOFFSETFROM:-0400
TZOFFSETTO:-0500
TZNAME:EST
DTSTART:20271107T060000
END:STANDARD
END:VTIMEZONE
BEGIN:VTIMEZONE
TZID:UTC
BEGIN:STANDARD
TZOFFSETFROM:+0000
TZOFFSETTO:+0000
TZNAME:UTC
DTSTART:20240101T000000
END:STANDARD
END:VTIMEZONE
BEGIN:VEVENT
DTSTART;TZID=America/New_York:20260321T100000
DTEND;TZID=America/New_York:20260321T160000
DTSTAMP:20260423T093356
CREATED:20260316T170450Z
LAST-MODIFIED:20260316T171456Z
UID:6351-1774087200-1774108800@www.humanesocietyncfl.org
SUMMARY:March Fill-a-Bag Clothing Sale
DESCRIPTION:Our Humane Society of North Central Florida Thrift Store December Fill-A-Bag Clothing Sale is here! For just $5\, you can fill a bag with as many clothes as you can fit. Bags provided! \nDate & Time: Saturday\, December 6 | 10 a.m. – 4 p.m.\nLocation: HSNCF Thrift Store | 4205 NW 6th St\, Gainesville\, FL \nEvery purchase helps support pets in need\, so shop big and save lives! \nPlease note: Donation drop-off will be closed ALL DAY on Saturday\, March 21\, and reopen on Tuesday\, March 23. \nStay up to date on all HSNCF Thrift sales by following us on Facebook and Instagram!
URL:https://www.humanesocietyncfl.org/event/march-bag-sale/
LOCATION:Humane Society of North Central Florida\, 4205 NW 6th Street\, Gainesville\, FL\, 32609\, United States
CATEGORIES:Thrift Store
END:VEVENT
BEGIN:VEVENT
DTSTART;TZID=America/New_York:20260310T100000
DTEND;TZID=America/New_York:20260314T173000
DTSTAMP:20260423T093356
CREATED:20260307T173353Z
LAST-MODIFIED:20260307T173353Z
UID:6339-1773136800-1773509400@www.humanesocietyncfl.org
SUMMARY:1st Annual Spring Book Sale @ HSNCF Thrift Store
DESCRIPTION:1st Annual Spring Book Sale! Join the HSNCF Thrift Store for their first-ever Spring Book Sale\, where all books are 50% off from Tuesday\, March 10\, through Saturday\, March 14! \nNo matter what you love to read\, we’ve got something waiting for you: Cookbooks Fiction & Nonfiction Sci-Fi & Mystery Vintage & Collectables Travel Psychology Autobiographies Children & Teen Romance Poetry Hobbies & Sports Pets & Wildlife And so much more! \nEvery purchase helps fund lifesaving work at the Humane Society of North Central Florida. \n 4025 NW 6th Street\, Gainesville\, FL 32609 Open Tuesday–Saturday\, 10 a.m. – 5:30 p.m.
URL:https://www.humanesocietyncfl.org/event/spring-book-sale-26/
LOCATION:Humane Society of North Central Florida Thrift Store\, 4205 NW 6th Street\, Gainesville\, FL\, 32609\, United States
CATEGORIES:Humane Society of North Central Florida,Thrift Store
END:VEVENT
BEGIN:VEVENT
DTSTART;TZID=America/New_York:20251206T100000
DTEND;TZID=America/New_York:20251206T160000
DTSTAMP:20260423T093356
CREATED:20251202T145058Z
LAST-MODIFIED:20251202T145058Z
UID:5904-1765015200-1765036800@www.humanesocietyncfl.org
SUMMARY:December Fill-a-Bag Clothing Sale
DESCRIPTION:Our Humane Society of North Central Florida Thrift Store December Fill-A-Bag Clothing Sale is here! For just $5\, you can fill a bag with as many clothes as you can fit. Bags provided! \nDate & Time: Saturday\, December 6 | 10 a.m. – 4 p.m.\nLocation: HSNCF Thrift Store | 4205 NW 6th St\, Gainesville\, FL \nEvery purchase helps support pets in need\, so shop big and save lives!
URL:https://www.humanesocietyncfl.org/event/dec-fill-a-bag/
LOCATION:Humane Society of North Central Florida\, 4205 NW 6th Street\, Gainesville\, FL\, 32609\, United States
CATEGORIES:Thrift Store
END:VEVENT
BEGIN:VEVENT
DTSTART;TZID=UTC:20250830T110000
DTEND;TZID=UTC:20250830T140000
DTSTAMP:20260423T093356
CREATED:20250814T152454Z
LAST-MODIFIED:20250814T152617Z
UID:5458-1756551600-1756562400@www.humanesocietyncfl.org
SUMMARY:Campus Connect
DESCRIPTION:Looking for a way to make an impact this semester? \nJoin us for our first-ever HSNCF Campus Connect on Saturday\, Aug. 30\, from 11 a.m. – 2 p.m. at the Humane Society of North Central Florida! Learn about our programs\, shop thrift deals\, and find out how you can get involved — from fostering and volunteering to hosting fundraisers and more. \n🐕 Meet pets looking for foster homes🚪 Tour our facility📋 Sign up to foster on the spot🛍 Stop by our Back-to-School Fill-a-Bag Clothing Sale ($5/bag) at the HSNCF Thrift Store (10 a.m.  to 4 p.m.)💡 Learn how your student org can partner with us \nWhether you’re into animals\, need community service hours\, or just want an excuse to pet cats between classes\, this is your event. \nLocation: Humane Society of North Central FloridaDate/Time: Sat\, Aug 30 | 11 a.m. – 2 p.m.
URL:https://www.humanesocietyncfl.org/event/campus-connect/
LOCATION:Humane Society of North Central Florida\, 4205 NW 6th Street\, Gainesville\, FL\, 32609\, United States
CATEGORIES:Humane Society of North Central Florida,Thrift Store
ORGANIZER;CN="Humane Society of North Central Florida":MAILTO:franziska@humanesocietyncfl.org
END:VEVENT
BEGIN:VEVENT
DTSTART;TZID=UTC:20250830T100000
DTEND;TZID=UTC:20250830T160000
DTSTAMP:20260423T093356
CREATED:20250814T144702Z
LAST-MODIFIED:20250814T165544Z
UID:5444-1756548000-1756569600@www.humanesocietyncfl.org
SUMMARY:Back-to-School Fill-a-Bag Sale
DESCRIPTION:Stock up for the new school year without breaking the bank! Stop by our HSNCF Thrift Store Saturday\, Aug. 30\, from 10 a.m. – 4 p.m.\, and fill a bag with as much adult and children’s clothing as you can for just $5 — bag included! \n🛍 Just 1 bag size\, unlimited style possibilities💸 Only $5 per bag👕 Clothing for all ages🎒 Bags provided \nPLUS — while you’re here\, head over to our shelter for the HSNCF Campus Connect Fair from 11 a.m. – 2 p.m. 🐾 Tour the shelter and learn how you can get involved through fostering\, volunteering\, and more! \nDon’t miss your chance to snag incredible deals and support the Humane Society of North Central Florida at the same time. \nLocation: Humane Society of North Central Florida Thrift Store Date/Time: Sat\, Aug 30 | 11 a.m. – 4 p.m.
URL:https://www.humanesocietyncfl.org/event/school-bag-sale/
LOCATION:Humane Society of North Central Florida\, 4205 NW 6th Street\, Gainesville\, FL\, 32609\, United States
CATEGORIES:Humane Society of North Central Florida,Thrift Store
ORGANIZER;CN="Humane Society of North Central Florida":MAILTO:franziska@humanesocietyncfl.org
END:VEVENT
BEGIN:VEVENT
DTSTART;TZID=America/New_York:20250315T100000
DTEND;TZID=America/New_York:20250315T140000
DTSTAMP:20260423T093356
CREATED:20250307T160354Z
LAST-MODIFIED:20250307T160354Z
UID:4697-1742032800-1742047200@www.humanesocietyncfl.org
SUMMARY:Fill-a-Bag Clothing Sale
DESCRIPTION:We’re bringing it back—our Humane Society of North Central Florida Thrift Store Fill-A-Bag Clothing Sale is here! For just $5\, you can fill a bag with as many clothes as you can fit! (Bags will be provided.) \nDate & Time: Saturday\, March 15 | 10 a.m. – 2 p.m.\nLocation: HSNCF Thrift Store | 4205 NW 6th St\, Gainesville\, FL \nEvery purchase helps support pets in need\, so shop big and save lives!
URL:https://www.humanesocietyncfl.org/event/march-fill-a-bag/
LOCATION:Humane Society of North Central Florida\, 4205 NW 6th Street\, Gainesville\, FL\, 32609\, United States
CATEGORIES:Thrift Store
ORGANIZER;CN="Humane Society of North Central Florida":MAILTO:franziska@humanesocietyncfl.org
END:VEVENT
BEGIN:VEVENT
DTSTART;TZID=America/New_York:20250208T110000
DTEND;TZID=America/New_York:20250208T150000
DTSTAMP:20260423T093356
CREATED:20250124T192033Z
LAST-MODIFIED:20250125T143939Z
UID:4452-1739012400-1739026800@www.humanesocietyncfl.org
SUMMARY:Fill-a-Bag Clothing Sale
DESCRIPTION:Fill-a-Bag Clothing Sale\nDon’t miss our Fill-A-Bag Clothing Sale at the Humane Society of North Central Florida Thrift Store! Fill a bag with all the clothes you can fit for just $3 to $5—bags provided! It’s the perfect chance to snag your Valentine’s outfit while helping pets in need. \nWe’re located at 4205 NW 6th Street\, Gainesville\, FL 32608. \n  \nPaw-fect Match Adoption Event\nWhile you’re here\, stop by the Humane Society of North Central Florida on Saturday\, February 8\, from 11 a.m. to 3 p.m.\, and find your perfect match! Give the ultimate Valentine’s gift—a forever home! All adult cats and dogs (5 months and older) have adoption fees of just $14\, thanks to a generous grant from ASPCA! Learn more here: www.humanesocietyncfl.org/event/paw-fect-match-2025 \nAll adoptable dogs are sterilized\, microchipped\, and up-to-date on vaccines. \nWant to see some of our adoptable dogs? Click the following link! humanesocietyncfl.org/adopt
URL:https://www.humanesocietyncfl.org/event/fill-a-bag-2025/
LOCATION:Humane Society of North Central Florida\, 4205 NW 6th Street\, Gainesville\, FL\, 32609\, United States
CATEGORIES:Paw-fect Match,Thrift Store
ORGANIZER;CN="Humane Society of North Central Florida":MAILTO:franziska@humanesocietyncfl.org
END:VEVENT
BEGIN:VEVENT
DTSTART;TZID=America/New_York:20241019T120000
DTEND;TZID=America/New_York:20241019T170000
DTSTAMP:20260423T093356
CREATED:20240920T132403Z
LAST-MODIFIED:20240920T132403Z
UID:4078-1729339200-1729357200@www.humanesocietyncfl.org
SUMMARY:Thrift Trunk-ot-Treat
DESCRIPTION:Calling all ghostly ghouls and friendly witches! Mark your calendars for the Humane Society of North Central Florida Thrift Store Trunk-or-Treat event on Saturday\, October 26 from 12-5 p.m.! Join us for a frightfully fun day filled with candy galore\, fang-tastic fossil hunt and games\, spooky raffle prizes\, and spine-tingling thrift sales! Bring your family and friends for a day of Halloween thrills and chills!  \nWe are located at the Humane Society of North Central Florida at 4025 NW 6th Street\, Gainesville\, FL 32609. 
URL:https://www.humanesocietyncfl.org/event/thrift-trunk-ot-treat/
LOCATION:Humane Society of North Central Florida\, 4205 NW 6th Street\, Gainesville\, FL\, 32609\, United States
CATEGORIES:Thrift Store
END:VEVENT
END:VCALENDAR