BEGIN:VCALENDAR
VERSION:2.0
PRODID:-//Humane Society of North Central Florida - ECPv6.15.20//NONSGML v1.0//EN
CALSCALE:GREGORIAN
METHOD:PUBLISH
X-WR-CALNAME:Humane Society of North Central Florida
X-ORIGINAL-URL:https://www.humanesocietyncfl.org
X-WR-CALDESC:Events for Humane Society of North Central Florida
REFRESH-INTERVAL;VALUE=DURATION:PT1H
X-Robots-Tag:noindex
X-PUBLISHED-TTL:PT1H
BEGIN:VTIMEZONE
TZID:America/New_York
BEGIN:DAYLIGHT
TZOFFSETFROM:-0500
TZOFFSETTO:-0400
TZNAME:EDT
DTSTART:20250309T070000
END:DAYLIGHT
BEGIN:STANDARD
TZOFFSETFROM:-0400
TZOFFSETTO:-0500
TZNAME:EST
DTSTART:20251102T060000
END:STANDARD
BEGIN:DAYLIGHT
TZOFFSETFROM:-0500
TZOFFSETTO:-0400
TZNAME:EDT
DTSTART:20260308T070000
END:DAYLIGHT
BEGIN:STANDARD
TZOFFSETFROM:-0400
TZOFFSETTO:-0500
TZNAME:EST
DTSTART:20261101T060000
END:STANDARD
BEGIN:DAYLIGHT
TZOFFSETFROM:-0500
TZOFFSETTO:-0400
TZNAME:EDT
DTSTART:20270314T070000
END:DAYLIGHT
BEGIN:STANDARD
TZOFFSETFROM:-0400
TZOFFSETTO:-0500
TZNAME:EST
DTSTART:20271107T060000
END:STANDARD
END:VTIMEZONE
BEGIN:VEVENT
DTSTART;VALUE=DATE:20260415
DTEND;VALUE=DATE:20260419
DTSTAMP:20260423T041501
CREATED:20260303T195154Z
LAST-MODIFIED:20260408T153444Z
UID:6315-1776211200-1776556799@www.humanesocietyncfl.org
SUMMARY:April Adoption Event Days
DESCRIPTION:If you have been considering adding a dog or cat to your family\, stop by during our April Adoption Event Days! \nDates: Wednesday\, April 15 – Saturday\, April 18 \nTimes: \n🐶 Dog Kennels: 1 p.m. – 3 p.m. (dog kennels only accessible during this time)\n🐱 Cat Rooms: 10 a.m. – 12 p.m. & 1 p.m. – 4:30 p.m. \nAdoption Fees are reduced for pets 5 months and older during the event!\n🐶 Dogs: $100\n🐱 Cats: $50 \nView Adoptable Animals: \n🐱 Cats: www.humanesocietyncfl.org/adopt/cats-kittens\n🐶 Dogs: www.humanesocietyncfl.org/adopt/dogs-puppies \nAll adoptable dogs & cats are sterilized\, microchipped\, and up-to-date on vaccines. \n \nFoster-Based Animals \nIf an animal’s location is listed as “Foster\,” they are currently living in a foster home. To arrange a meet-and-greet: \n\nComplete an adoption application (cat or dog)\nEmail info@humanesocietyncfl.org or call 352-373-5855 to schedule your visit
URL:https://www.humanesocietyncfl.org/event/april-adoption-days/
LOCATION:Humane Society of North Central Florida\, 4205 NW 6th Street\, Gainesville\, FL\, 32609\, United States
ORGANIZER;CN="Humane Society of North Central Florida":MAILTO:franziska@humanesocietyncfl.org
END:VEVENT
BEGIN:VEVENT
DTSTART;TZID=America/New_York:20260430T080000
DTEND;TZID=America/New_York:20260430T200000
DTSTAMP:20260423T041501
CREATED:20260414T164100Z
LAST-MODIFIED:20260417T132703Z
UID:6464-1777536000-1777579200@www.humanesocietyncfl.org
SUMMARY:Amazing Give 2026
DESCRIPTION:The Amazing Give is North Central Florida’s largest day of giving\, bringing our community together for 12 hours to support local nonprofits and the people and animals they serve. \nEvery gift made during The Amazing Give helps provide medical care\, shelter\, spay and neuter services\, and second chances for animals in need. \nWhen you give on Thursday\, April 30\, from 8 a.m. to 8 p.m.\, there are donation matching opportunities\, helping you double your impact and reach even more animals. \nWant to go further? Start your own fundraiser and invite your friends\, family\, and coworkers to be part of this lifesaving work. Every dollar\, every share\, and every voice matters. \nTogether\, we are here for the animals. \nGive now or learn more: https://www.theamazinggive.org/organizations/humane-society-north-central-florida
URL:https://www.humanesocietyncfl.org/event/amazing-give-2026/
END:VEVENT
BEGIN:VEVENT
DTSTART;VALUE=DATE:20260517
DTEND;VALUE=DATE:20260518
DTSTAMP:20260423T041501
CREATED:20260414T162955Z
LAST-MODIFIED:20260414T162955Z
UID:6462-1778976000-1779062399@www.humanesocietyncfl.org
SUMMARY:First Magnitude Beer Cover Photo Contest - Entry & Voting Ends!
DESCRIPTION:Entry and voting for the First Magnitude Beer Cover Pet Contest ENDS today\, May 17\, at 9 p.m.! \nSince 2021\, the HSNCF and First Magnitude Brewing Company have raised over $120\,000 together for pets in need. We’re opening the floor once again for your dog or cat to become a cover pet and feature on a limited-edition beer can label! \nHere’s how it works: \n\nSubmit your pet’s best photo\nTell us why they’re the perfect ambassador for rescued animals\nMake a $10 donation to enter\nShare\, vote\, and rally your people: every $1 vote supports HSNCF\n\nSIX finalists (3 dogs\, 3 cats) will have their faces featured on the can art of a First Magnitude special release beer\, plus some awesome prizes. The TOP DOG and TOP CAT will also win FREE BEER FOR A YEAR! \nNew this year: weekly mini-challenges and two special awards by the First Magnitude team and our team! \nEntry & Voting: April 16 at 8 a.m. – May 17 at 9 p.m. \nALL proceeds support the animals in our care! \nEnter & Vote here: https://www.gogophotocontest.com/firstmagcoverpetcontest
URL:https://www.humanesocietyncfl.org/event/beer-photo-contest-end-26/
CATEGORIES:Photo Contest
ORGANIZER;CN="Humane Society of North Central Florida":MAILTO:franziska@humanesocietyncfl.org
END:VEVENT
END:VCALENDAR