BEGIN:VCALENDAR
VERSION:2.0
PRODID:-//Humane Society of North Central Florida - ECPv6.15.20//NONSGML v1.0//EN
CALSCALE:GREGORIAN
METHOD:PUBLISH
X-WR-CALNAME:Humane Society of North Central Florida
X-ORIGINAL-URL:https://www.humanesocietyncfl.org
X-WR-CALDESC:Events for Humane Society of North Central Florida
REFRESH-INTERVAL;VALUE=DURATION:PT1H
X-Robots-Tag:noindex
X-PUBLISHED-TTL:PT1H
BEGIN:VTIMEZONE
TZID:America/New_York
BEGIN:DAYLIGHT
TZOFFSETFROM:-0500
TZOFFSETTO:-0400
TZNAME:EDT
DTSTART:20230312T070000
END:DAYLIGHT
BEGIN:STANDARD
TZOFFSETFROM:-0400
TZOFFSETTO:-0500
TZNAME:EST
DTSTART:20231105T060000
END:STANDARD
BEGIN:DAYLIGHT
TZOFFSETFROM:-0500
TZOFFSETTO:-0400
TZNAME:EDT
DTSTART:20240310T070000
END:DAYLIGHT
BEGIN:STANDARD
TZOFFSETFROM:-0400
TZOFFSETTO:-0500
TZNAME:EST
DTSTART:20241103T060000
END:STANDARD
BEGIN:DAYLIGHT
TZOFFSETFROM:-0500
TZOFFSETTO:-0400
TZNAME:EDT
DTSTART:20250309T070000
END:DAYLIGHT
BEGIN:STANDARD
TZOFFSETFROM:-0400
TZOFFSETTO:-0500
TZNAME:EST
DTSTART:20251102T060000
END:STANDARD
END:VTIMEZONE
BEGIN:VTIMEZONE
TZID:UTC
BEGIN:STANDARD
TZOFFSETFROM:+0000
TZOFFSETTO:+0000
TZNAME:UTC
DTSTART:20200101T000000
END:STANDARD
END:VTIMEZONE
BEGIN:VEVENT
DTSTART;TZID=America/New_York:20240713T110000
DTEND;TZID=America/New_York:20240713T150000
DTSTAMP:20260423T161245
CREATED:20240612T143745Z
LAST-MODIFIED:20240626T184113Z
UID:3773-1720868400-1720882800@www.humanesocietyncfl.org
SUMMARY:Parks Ford Adoption Event
DESCRIPTION:Come see us at Parks Ford on Saturday\, July 13 from 11 am – 3 pm. Our pets will be located at 3333 N Main Street.\n\nAll adoption fees are WAIVED thanks to Parks of Gainesville!\n\nAdoptable animals are sterilized\, vaccinated\, and microchipped prior to adoption.
URL:https://www.humanesocietyncfl.org/event/parks-ford-adoption-event-dogs/
LOCATION:Parks Ford\, 3333 N Main St\, Gainesville\, FL\, 32609\, United States
CATEGORIES:Parks Ford
ORGANIZER;CN="Humane Society of North Central Florida":MAILTO:franziska@humanesocietyncfl.org
END:VEVENT
BEGIN:VEVENT
DTSTART;VALUE=DATE:20240708
DTEND;VALUE=DATE:20240801
DTSTAMP:20260423T161245
CREATED:20240712T125112Z
LAST-MODIFIED:20240712T125112Z
UID:3861-1720396800-1722470399@www.humanesocietyncfl.org
SUMMARY:BISSELL Pet Foundation Empty the Shelters Adoption Event
DESCRIPTION:We’re thrilled to announce our participation in the BISSELL Pet Foundation Empty the Shelters National Adoption Event! From July 8–July 31\, BISSELL Foundation is sponsoring reduced adoption fees for all adoptions made in-house here at the HSNCF and the Feline Good Cat Café. \nDog Adoption Fee: $50\nCat Adoption Fee: $25\n(Please note: Puppies and kittens are excluded.) \nTo see out adoptable pets\, visit humanesocietyncfl.org/adopt. Stop by in throughout July to meet your new best friend and give a loving home to a deserving pet! For more information\, visit bissellpetfoundation.org/ets.
URL:https://www.humanesocietyncfl.org/event/bissell-pet-foundation-empty-the-shelters-adoption-event/
ORGANIZER;CN="Humane Society of North Central Florida":MAILTO:franziska@humanesocietyncfl.org
END:VEVENT
BEGIN:VEVENT
DTSTART;TZID=America/New_York:20240629T090000
DTEND;TZID=America/New_York:20240629T170000
DTSTAMP:20260423T161245
CREATED:20240524T142501Z
LAST-MODIFIED:20240621T185243Z
UID:3750-1719651600-1719680400@www.humanesocietyncfl.org
SUMMARY:Small Animal Emergency and Disaster Sheltering Course - Awareness Level
DESCRIPTION:In collaboration with Florida State Animal Response Coalition (FLSARC). \nThanks to the Melba Bayers Meyer Foundation\, FL SARC and Humane Society N Central FL are offering our Awareness Level Small Animal Disaster and Emergency Sheltering class with $25 off registration! Use promocode MELBA! \nPrerequisites: Age 18 or older (16-18 w/parent or guardian). \nThis class teaches skills and knowledge necessary to volunteer in an emergency or pet-friendly shelter. RSVP here! \nIt is FEMA approved and certified by the Florida Department of Emergency Management. This course is required to become a FL SARC volunteer. More information can be found at https://flsarc.org/volunteers. \nSaturday\, Jun 29\, 2024 9:00 AM – 5:00 PM ET
URL:https://www.humanesocietyncfl.org/event/small-animal-emergency-and-disaster-sheltering-course-awareness-level/
LOCATION:Humane Society of North Central Florida\, 4205 NW 6th Street\, Gainesville\, FL\, 32609\, United States
END:VEVENT
BEGIN:VEVENT
DTSTART;TZID=America/New_York:20240616T110000
DTEND;TZID=America/New_York:20240616T123000
DTSTAMP:20260423T161245
CREATED:20240523T143108Z
LAST-MODIFIED:20240613T125920Z
UID:3746-1718535600-1718541000@www.humanesocietyncfl.org
SUMMARY:Kitten Yoga w/ Krista Kingsbury
DESCRIPTION:Who wouldn’t love a fur-filled yoga class for a good cause? Join us at Flow Space for yoga with free-range kittens. 50% of the proceeds are going to support the Humane Society of North Central Florida! Whether you want to adopt a kitten comrade or simply enjoy the floofy friends while you flow\, this gentle yoga session is for you! You will be lead through a sequence that allows you to paws and relax while the little fur-balls\, brought by the Humane Society of North Central Florida\, climb all over you.
URL:https://www.humanesocietyncfl.org/event/kitten-yoga-w-krista-kingsbury/
LOCATION:flow space\, 117 NW 16th Ave\, Gainesville\, FL\, 32601\, United States
ORGANIZER;CN="Humane Society of North Central Florida":MAILTO:franziska@humanesocietyncfl.org
END:VEVENT
BEGIN:VEVENT
DTSTART;TZID=America/New_York:20240608T110000
DTEND;TZID=America/New_York:20240608T150000
DTSTAMP:20260423T161245
CREATED:20240520T180337Z
LAST-MODIFIED:20240520T180451Z
UID:3744-1717844400-1717858800@www.humanesocietyncfl.org
SUMMARY:North Florida Pet Adoption Day
DESCRIPTION:Each spring and summer\, when the weather heats up\, rescues and shelters across North Central Florida are flooded with underage litters of kittens and puppies. \nThe Humane Society of North Central Florida and Alachua County Animal Resources are proud to present North Florida Pet Adoption Days 2024! \nWHEN: Saturday\, June 8th\, 2024 – 11 am to 3 pm \nWHERE: HSNCF’s North Campus at 4205 NW 6th Street\, Gainesville\, FL \nWHAT: Adoption fees will be waived on all adult pets excluding puppies and kittens aged 5 months or younger. Adoptable pets are sterilized\, vaccinated and microchipped prior to adoption. \nExplore our newly renovated cat community housing and discover your purr-fect match. \nDon’t miss the chance to find your new best friend! Click below to view adoptable pets and apply online for adoption. \nClick on the organization below to view adoptable pets and apply online for adoption. \nNorth Florida Pet Adoption Day
URL:https://www.humanesocietyncfl.org/event/north-florida-pet-adoption-day/
LOCATION:Humane Society of North Central Florida\, 4205 NW 6th Street\, Gainesville\, FL\, 32609\, United States
ORGANIZER;CN="Humane Society of North Central Florida":MAILTO:franziska@humanesocietyncfl.org
END:VEVENT
BEGIN:VEVENT
DTSTART;TZID=America/New_York:20240303T150000
DTEND;TZID=America/New_York:20240303T170000
DTSTAMP:20260423T161245
CREATED:20240227T213522Z
LAST-MODIFIED:20240228T195951Z
UID:3686-1709478000-1709485200@www.humanesocietyncfl.org
SUMMARY:Trey Taylor Concert
DESCRIPTION:You’re invited! Join us on March 3rd at 3 p.m. at HSNCF for an extraordinary evening featuring a special performance by Trey Taylor\, food trucks\, and an announcement to make a lasting impact for years to come. Get your tickets now!\nAll proceeds benefit the Humane Society of North Central Florida.\nClick here to buy tickets
URL:https://www.humanesocietyncfl.org/event/treytaylorconcert/
LOCATION:Humane Society of North Central Florida\, 4205 NW 6th Street\, Gainesville\, FL\, 32609\, United States
ORGANIZER;CN="Humane Society of North Central Florida":MAILTO:franziska@humanesocietyncfl.org
END:VEVENT
BEGIN:VEVENT
DTSTART;TZID=UTC:20231102T180000
DTEND;TZID=UTC:20231102T220000
DTSTAMP:20260423T161245
CREATED:20181013T000227Z
LAST-MODIFIED:20231010T213129Z
UID:979-1698948000-1698962400@www.humanesocietyncfl.org
SUMMARY:Woofstock
DESCRIPTION:Woofstock\n			\n			\n				\n				\n				\n				\n			\n				\n				\n			\n				\n				\n				\n				\n				\n				\n				\n				\n				\n				\n				\n				\n				\n				\n				\n				\n				\n				\n			\n				\n				\n				\n				\n				Woofstock\, presented by Fine\, Farkash & Parlapiano\, P.A.\, is back for its 8th year to raise funds for the Humane Society of North Central Florida! Over the past seven years\, Woofstock has been critical to the animal welfare community’s success by raising over $300\,000 towards our mission to end the needless euthanasia of healthy and treatable companion pets across North Central Florida. Thanks to you\, our sponsors and attendees\, we have achieved more than we ever dreamed possible! \nThis year we cannot wait to see you again at the Santa Fe River Ranch in Alachua. Don’t miss the breathtaking sunset views at the Santa Fe River Ranch on Thursday\, November 2nd for the eighth annual Woofstock\, benefiting the Humane Society of North Central Florida! You won’t want to miss a groovy evening of live music\, delicious food and drinks\, an incredible silent auction and lots of funky fun. All proceeds from Woofstock will directly support our life-saving efforts. \n			\n			\n				\n				\n				\n				\n			\n				\n				\n				\n				\n				\n				\n				\n				\n				\n				\n				What\n			\n				\n				\n				\n				\n				Woofstock 2023\n			\n				\n				\n				\n				\n				When\n			\n				\n				\n				\n				\n				Thursday\, November 2nd | 6:00 -10:00 P.M.\n			\n			\n				\n				\n				\n				\n				\n				\n				\n				\n				\n				Where\n			\n				\n				\n				\n				\n				Santa Fe River Ranch\n29220 NW 122nd Street | Alachua\, FL 32615 \n			\n				\n				\n				\n				\n				Donate to the Silent Auction\n			\n				Donate to Our Silent Auction\n			\n			\n				\n				\n				\n				\n			\n				\n				\n				\n				\n				\n				\n				\n				\n				\n				\n				Get Your Tickets Now!\n			\n				Purchase Tickets Here\n			\n			\n				\n				\n				\n				\n			\n				\n				\n				\n				\n				\n				\n			\n				\n				\n				\n				\n			\n				\n				\n				\n				\n				\n				\n				\n				\n				\n				\n				Become a Sponsor\n			\n				\n				\n				\n				\n				As a sponsor of Woofstock 2023\, you will receive tickets to this year’s hippest fundraising event in addition to many other sponsor benefits. Be sure to complete your sponsorship packet by October 20th or sooner to make the most of your sponsorship benefits! \n			\n				Reserve your Sponsorship\n			\n				Download the Sponsorship Packet\n			\n			\n				\n				\n				\n				\n			\n				\n				\n				\n				\n				\n				\n				\n				\n				\n				\n				For more information\, please contact Leesha Baumann\, Director of Development at 352.415.2354 or leesha@humanesocietyncfl.org. \n			\n			\n				\n				\n				\n				\n			\n				\n				\n			\n				\n				\n				\n				\n				\n				\n				\n				\n				\n				\n				\n				\n				\n				\n				\n				\n				\n				The Woofstock 2023 Line Up:\n  \n			\n				\n				\n				\n				\n				\n			\n			\n				\n				\n				\n				\n			\n				\n				\n			\n				\n				\n				\n				\n				\n				\n				\n				\n				\n				\n				\n				\n				\n				\n				\n				\n				\n				Thank you to our Sponsors!\n			\n			\n				\n				\n				\n				\n			\n				\n				\n				\n				\n				\n				\n				\n				\n				\n				\n				PRESENTING SPONSOR\n			\n				\n				\n				\n				\n				\n			\n			\n				\n				\n				\n				\n			\n				\n				\n				\n				\n				\n				\n				\n				\n				\n				\n				Hendrix\n			\n			\n				\n				\n				\n				\n			\n				\n				\n				\n				\n				\n				\n				\n				\n				\n				\n				\n			\n			\n				\n				\n				\n				\n				\n			\n				\n				\n				\n				\n				\n				\n				\n				\n				\n				\n			\n			\n				\n				\n				\n				\n			\n				\n				\n				\n				\n				\n				\n			\n				\n				\n				\n				\n			\n				\n				\n				\n				\n				\n				\n				\n				\n				\n				\n				Joplin\n			\n			\n				\n				\n				\n				\n			\n				\n				\n				\n				\n				\n				\n			\n				\n				\n				\n				\n				\n				\n				\n				\n				\n				\n			\n			\n				\n				\n				\n				\n				\n				\n				\n				\n				\n				\n			\n			\n				\n				\n				\n				\n				\n				\n				\n				\n				\n				\n			\n			\n				\n				\n				\n				\n				\n			\n				\n				\n				\n				\n			\n				\n				\n				\n				\n				\n				\n				\n				\n				\n				\n				santana\n			\n			\n				\n				\n				\n				\n			\n				\n				\n				\n				\n				\n				\n				\n				\n				\n				\n				\n			\n				\n				\n				\n				\n				\n			\n			\n				\n				\n				\n				\n				\n				\n				\n				\n				\n				\n			\n				\n				\n				\n				\n				Bruce & Paula DeLaney\n			\n			\n				\n				\n				\n				\n				\n				\n				\n				\n				\n				\n			\n				\n				\n				\n				\n				\n			\n				\n				\n				\n				\n				\n			\n			\n				\n				\n				\n				\n				\n				\n				\n				\n				\n				\n			\n				\n				\n				\n				\n				Loralee Hutchinson\, Realtor\n			\n			\n				\n				\n				\n				\n				\n				\n				\n				\n				\n				\n			\n				\n				\n				\n				\n				\n			\n			\n				\n				\n				\n				\n			\n				\n				\n				\n				\n				\n				\n				\n				\n				\n				\n				Creedence\n			\n			\n				\n				\n				\n				\n			\n				\n				\n				\n				\n				\n				\n				\n				\n				\n				\n				\n			\n				\n				\n				\n				\n				\n			\n				\n				\n				\n				\n				\n			\n			\n				\n				\n				\n				\n				\n			\n				\n				\n				\n				\n				\n				\n				\n				\n				\n				\n			\n				\n				\n				\n				\n				\n			\n			\n				\n				\n				\n				\n				\n			\n				\n				\n				\n				\n				\n				\n				\n				\n				\n				\n			\n				\n				\n				\n				\n				\n			\n				\n				\n				\n				\n				\n			\n			\n				\n				\n				\n				\n			\n				\n				\n				\n				\n				\n				\n				\n				\n				\n				\n				crosby\n			\n			\n				\n				\n				\n				\n			\n				\n				\n				\n				\n				\n				\n				\n				\n				\n				\n				\n			\n				\n				\n				\n				\n				\n			\n				\n				\n				\n				\n				David Hanson with Raymond James & Associates\n			\n			\n				\n				\n				\n				\n				\n			\n				\n				\n				\n				\n				\n				\n				\n				\n				\n				\n			\n				\n				\n				\n				\n				\n			\n			\n				\n				\n				\n				\n				\n			\n				\n				\n				\n				\n				\n				\n				\n				\n				\n				\n			\n				\n				\n				\n				\n				\n			\n				\n				\n				\n				\n				Robbin & Larry Garcia\n			\n			\n				\n				\n				\n				\n			\n				\n				\n				\n				\n				\n				\n				\n				\n				\n				\n				IN-KIND
URL:https://www.humanesocietyncfl.org/event/woofstock-2023/
LOCATION:Santa Fe River Ranch\, 29220 NW 122nd Street\, Alachua\, FL\, 32615\, United States
ORGANIZER;CN="Humane Society of North Central Florida":MAILTO:franziska@humanesocietyncfl.org
END:VEVENT
BEGIN:VEVENT
DTSTART;TZID=UTC:20230813T130000
DTEND;TZID=UTC:20230813T160000
DTSTAMP:20260423T161246
CREATED:20181212T034122Z
LAST-MODIFIED:20230517T184117Z
UID:1435-1691931600-1691942400@www.humanesocietyncfl.org
SUMMARY:Hogtown Brewdown
DESCRIPTION:The event will feature 10 beer/food pairing stations all hand-crafted by talented chefs/brewers from the Hogtown Brewers club. This exclusive event gives you the opportunity to sample one-of-a-kind home-brewed beers with perfectly paired dishes! \nEach station will provide a snack-sized portion of food and a 2-3 ounce beer sample. Attendees will get to vote on the (1) Best Beer; (2) Best Food; and (3) Best Beer/Food Pairing. There will also be a silent auction and raffle! \nTickets are $30 each. Other tickets include: $50 for one ticket and a table sponsorship or $100 for two tickets and a table sponsorship. Tickets will be limited to the first 100 people. If not sold out\, tickets will be $40 at the door. \nTickets available now!
URL:https://www.humanesocietyncfl.org/event/hogtown-brewdown/
LOCATION:Daft Cow Brewery\, 13800 Tech City Circle\, Alachua\, FL\, 32615\, United States
ORGANIZER;CN="Humane Society of North Central Florida":MAILTO:franziska@humanesocietyncfl.org
END:VEVENT
BEGIN:VEVENT
DTSTART;TZID=UTC:20210601T000000
DTEND;TZID=UTC:20210630T233000
DTSTAMP:20260423T161246
CREATED:20210524T211735Z
LAST-MODIFIED:20220906T162140Z
UID:2590-1622505600-1625095800@www.humanesocietyncfl.org
SUMMARY:Bourbon Fundraiser
DESCRIPTION:Bourbon Fundraiser\n			\n			\n				\n				\n				\n				\n			\n				\n				\n			\n				\n				\n				\n				\n				\n				\n				\n				\n				\n				\n				\n				\n				\n				\n				\n				\n				\n				\n			\n				\n				\n				\n				\n				Are you a bourbon lover? Looking to start or add to your collection? Always wanted to try some Pappy Van Winkle?\n\nThen this is the fundraiser for you! You have the opportunity to win one of five bourbon packages\, including a bottle of OFC 1995 valued at over $5\,000! All of the packages contain rare and highly sought after bottles of Kentucky’s finest bourbons.\n\nPurchase your entries between June 1st and June 30th\, 2021 for your chances to win! With only 1\,500 total entries available\, you don’t want to miss this!\n			\n			\n				\n				\n				\n				\n			\n				\n				\n				\n				\n				\n				\n				\n				\n				\n				\n				Bourbon Fundraiser Entries Available June 1st!\n			\n				Enter Now!\n			\n				\n				\n				\n				\n				Entries are available for a $100 suggested donation. Only 1\,500 total entries are available. \n			\n			\n				\n				\n				\n				\n			\n				\n				\n			\n				\n				\n				\n				\n				\n				\n				\n				\n				\n				\n				\n				\n				\n				\n				\n				\n				\n				The Goods\n			\n			\n				\n				\n				\n				\n			\n				\n				\n				\n				\n				\n				\n				\n				\n				\n				\n				\n			\n				\n				\n				\n				\n				Lot 1 Includes: \nVan Winkle 10 Year \nVan Winkle 12 Year \nVan Winkle Family Reserve Rye 13 Year \nPappy Van Winkle 15 Year \nPappy Van Winkle 20 Year. \n			\n				\n				\n				\n				\n				\n			\n				\n				\n				\n				\n				Lot 3 Includes: \nE H Taylor 18 Year Marriage \nE H Taylor Barrel Proof Uncut & Unfiltered \nGeorge T. Stagg \n			\n			\n				\n				\n				\n				\n				\n				\n				\n				\n				\n				\n			\n				\n				\n				\n				\n				Lot 2 Includes: \nOFC 1995 25 Year \n			\n				\n				\n				\n				\n				\n			\n				\n				\n				\n				\n				Lot 4 Includes: \n1792 Sweet Wheat \n1792 Full Proof \nEagle Rare 10 Year \nBlanton’s \nFour Roses Limited Edition 2019 Release \nFour Roses Limited Edition 2020 Release \n			\n			\n				\n				\n				\n				\n			\n				\n				\n				\n				\n				\n				\n				\n				\n				\n				\n				\n			\n				\n				\n				\n				\n				Lot 5 Includes: \nCopper Whisky Thief produced by Vendome Copper & Brass Works. \nActually used at Buffalo Trace Distillery. \nFeatures Sazerac engraving. \n			\n			\n				\n				\n				\n				\n			\n				\n				\n			\n				\n				\n				\n				\n				\n				\n				\n				\n				\n				\n				\n				\n				\n				\n				\n				\n				\n				The Fine Print\n			\n			\n				\n				\n				\n				\n			\n				\n				\n				\n				\n				\n				\n				\n				\n				\n				\n				\n Sponsor. Humane Society of North Central Florida (“HSNCF”) is the sponsor of The Bourbon Fundraiser. HSNCF is a 501(c)(3) non-profit organization. The purpose of the fundraiser is to raise funds for the operation of the Humane Society of North Central Florida and its mission to eliminate the euthanasia of healthy and treatable pets in our region.\n\n  \n\nOverview. The fundraiser begins on June 1\, 2021\, and ends on June 30\, 2021\, or when entries/tickets are sold-out\, whichever occurs first.\n\n  \n\n Eligibility. Any person 21 years of age or older\, residing where the fundraiser is not prohibited\, may purchase an entry ticket to be entered in the drawing (such person shall be herein known as the “Ticket Holder”). An affidavit of eligibility may be required from ticket holders who win a prize. HSNCF staff members\, Board Members members and their immediate family members (in this instance known as spouses and children) are prohibited from purchasing entries.\n\n  \n\n Rules. By purchasing an Entry Ticket\, each Ticket Holder accepts and agrees to be bound by all the rules\, limitations\, conditions\, and restrictions set forth herein (the “Rules”)\, as well as all applicable local\, state\, and federal laws and regulations. HSNCF’s decisions in all matters concerning the fundraiser and its interpretation and application of the Rules shall be final. Please contact HSNCF if you have questions regarding the Rules or the fundraiser. The fundraiser is void where prohibited by law.\n\n  \n\n Releases. By purchasing an Entry Ticket\, each Ticket Holder releases HSNCF\, its directors\, officers\, employees\, and agents\, from any and all liability with respect to the fundraiser\, including\, but not limited to\, the selection process and the interpretation and application of the Rules\, and from any and all liability for injuries\, losses\, or damages of any kind caused by any prize or resulting from acceptance\, possession\, use\, or misuse of any prize\, and each Ticket Holder agrees to indemnify and hold HSNCF harmless from any and all losses\, damages\, rights\, claims\, and actions of any kind arising in connection with or as a result of the winner’s acceptance or use of any prize. Each Ticket Holder agrees that his/her name\, likeness\, and any statements made by him/her regarding the prize may be used by HSNCF for advertising or publicity purposes in social media\, print publications\, on websites and in other media without compensation\, and in lists of prize winners that may be published or shared.\n\n  \n\nEntry Tickets. The suggested donation to purchase an Entry Ticket for the fundraiser is $100.00 (U.S. Funds only). A maximum of 1\,500 Entries will be sold via the ticket website only. Each Entry Ticket has one name designated to that ticket. Any eligible person may purchase more than one Entry Ticket. Odds of winning depend on the number of valid Entry Tickets sold. Tickets will not be sold after 11:30 p.m.\, Eastern Standard Time (“EST”)\, Wednesday\, June 30\, 2021. Any unsold tickets become the property of HSNCF. Any ticket(s) purchased after the 1\,500 limit has been reached but prior to HSNCF’s removal of the online order form will be invalid and the purchaser’s payment will be refunded. The IRS has taken the position that amounts paid for chances in raffles\, lotteries\, or similar drawings for valuable prizes are not gifts\, and consequently do not qualify as deductible charitable contributions. An Entry Ticket is not valid and shall not be entered in the fundraiser until full and satisfactory donation for such Entry Ticket is received by HSNCF. Tickets are not transferable.\n\n  \n\n Prizes.  A maximum of 1\,500 entries will be sold. Some of the featured bottles include: 5 piece set of Pappy Van Winkle 10\, 12\, 13\, 15 and 20 Years as one lot; 1 bottle OFC 1995 25 year as one lot; 1 bottle of E H Taylor 18 year Marriage\, 1 bottle of E H Taylor Barrel Proof Uncut and Unfiltered\, and 1 bottle George T. Stagg as one lot; 1 bottle of 1792 Sweet Wheat\, 1 bottle of 1792 Full Proof\, 1 bottle of Eagle Rare 10 year\, 1 bottle Blanton’s\, 1 bottle Four Roses Limited Edition 2019 Release\, 1 bottle Four Roses Limited Edition 2020 Release as one lot; 1 Copper Whisky Thief produced by Vendome Copper and Brass Works actually used at Buffalo Trace Distillery with Sazerac Engraving.  Odds of winning are 1:300.  Winners will be contacted after the drawing with details on how to pick-up prizes.\n\n  \n\n Drawing.  The drawing will be conducted live on Facebook on July 1st\, 2021 at approximately 12:30 p.m EST. HSNCF will use a random generator to draw raffle ticket numbers during the virtual online event. HSNCF will maintain a list of raffle tickets drawn and winners associated with such tickets. Entrants may request a copy of the list by emailing Humane Society of North Central Florida at development@humanesocietyncfl.org. HSNCF reserves the right to cancel\, suspend or delay the drawing for any reason
URL:https://www.humanesocietyncfl.org/event/bourbon-fundraiser/
ORGANIZER;CN="Humane Society of North Central Florida":MAILTO:franziska@humanesocietyncfl.org
END:VEVENT
END:VCALENDAR