BEGIN:VCALENDAR
VERSION:2.0
PRODID:-//Humane Society of North Central Florida - ECPv6.15.20//NONSGML v1.0//EN
CALSCALE:GREGORIAN
METHOD:PUBLISH
X-WR-CALNAME:Humane Society of North Central Florida
X-ORIGINAL-URL:https://www.humanesocietyncfl.org
X-WR-CALDESC:Events for Humane Society of North Central Florida
REFRESH-INTERVAL;VALUE=DURATION:PT1H
X-Robots-Tag:noindex
X-PUBLISHED-TTL:PT1H
BEGIN:VTIMEZONE
TZID:UTC
BEGIN:STANDARD
TZOFFSETFROM:+0000
TZOFFSETTO:+0000
TZNAME:UTC
DTSTART:20200101T000000
END:STANDARD
END:VTIMEZONE
BEGIN:VEVENT
DTSTART;TZID=UTC:20210601T000000
DTEND;TZID=UTC:20210630T233000
DTSTAMP:20260424T014421
CREATED:20210524T211735Z
LAST-MODIFIED:20220906T162140Z
UID:2590-1622505600-1625095800@www.humanesocietyncfl.org
SUMMARY:Bourbon Fundraiser
DESCRIPTION:Bourbon Fundraiser\n			\n			\n				\n				\n				\n				\n			\n				\n				\n			\n				\n				\n				\n				\n				\n				\n				\n				\n				\n				\n				\n				\n				\n				\n				\n				\n				\n				\n			\n				\n				\n				\n				\n				Are you a bourbon lover? Looking to start or add to your collection? Always wanted to try some Pappy Van Winkle?\n\nThen this is the fundraiser for you! You have the opportunity to win one of five bourbon packages\, including a bottle of OFC 1995 valued at over $5\,000! All of the packages contain rare and highly sought after bottles of Kentucky’s finest bourbons.\n\nPurchase your entries between June 1st and June 30th\, 2021 for your chances to win! With only 1\,500 total entries available\, you don’t want to miss this!\n			\n			\n				\n				\n				\n				\n			\n				\n				\n				\n				\n				\n				\n				\n				\n				\n				\n				Bourbon Fundraiser Entries Available June 1st!\n			\n				Enter Now!\n			\n				\n				\n				\n				\n				Entries are available for a $100 suggested donation. Only 1\,500 total entries are available. \n			\n			\n				\n				\n				\n				\n			\n				\n				\n			\n				\n				\n				\n				\n				\n				\n				\n				\n				\n				\n				\n				\n				\n				\n				\n				\n				\n				The Goods\n			\n			\n				\n				\n				\n				\n			\n				\n				\n				\n				\n				\n				\n				\n				\n				\n				\n				\n			\n				\n				\n				\n				\n				Lot 1 Includes: \nVan Winkle 10 Year \nVan Winkle 12 Year \nVan Winkle Family Reserve Rye 13 Year \nPappy Van Winkle 15 Year \nPappy Van Winkle 20 Year. \n			\n				\n				\n				\n				\n				\n			\n				\n				\n				\n				\n				Lot 3 Includes: \nE H Taylor 18 Year Marriage \nE H Taylor Barrel Proof Uncut & Unfiltered \nGeorge T. Stagg \n			\n			\n				\n				\n				\n				\n				\n				\n				\n				\n				\n				\n			\n				\n				\n				\n				\n				Lot 2 Includes: \nOFC 1995 25 Year \n			\n				\n				\n				\n				\n				\n			\n				\n				\n				\n				\n				Lot 4 Includes: \n1792 Sweet Wheat \n1792 Full Proof \nEagle Rare 10 Year \nBlanton’s \nFour Roses Limited Edition 2019 Release \nFour Roses Limited Edition 2020 Release \n			\n			\n				\n				\n				\n				\n			\n				\n				\n				\n				\n				\n				\n				\n				\n				\n				\n				\n			\n				\n				\n				\n				\n				Lot 5 Includes: \nCopper Whisky Thief produced by Vendome Copper & Brass Works. \nActually used at Buffalo Trace Distillery. \nFeatures Sazerac engraving. \n			\n			\n				\n				\n				\n				\n			\n				\n				\n			\n				\n				\n				\n				\n				\n				\n				\n				\n				\n				\n				\n				\n				\n				\n				\n				\n				\n				The Fine Print\n			\n			\n				\n				\n				\n				\n			\n				\n				\n				\n				\n				\n				\n				\n				\n				\n				\n				\n Sponsor. Humane Society of North Central Florida (“HSNCF”) is the sponsor of The Bourbon Fundraiser. HSNCF is a 501(c)(3) non-profit organization. The purpose of the fundraiser is to raise funds for the operation of the Humane Society of North Central Florida and its mission to eliminate the euthanasia of healthy and treatable pets in our region.\n\n  \n\nOverview. The fundraiser begins on June 1\, 2021\, and ends on June 30\, 2021\, or when entries/tickets are sold-out\, whichever occurs first.\n\n  \n\n Eligibility. Any person 21 years of age or older\, residing where the fundraiser is not prohibited\, may purchase an entry ticket to be entered in the drawing (such person shall be herein known as the “Ticket Holder”). An affidavit of eligibility may be required from ticket holders who win a prize. HSNCF staff members\, Board Members members and their immediate family members (in this instance known as spouses and children) are prohibited from purchasing entries.\n\n  \n\n Rules. By purchasing an Entry Ticket\, each Ticket Holder accepts and agrees to be bound by all the rules\, limitations\, conditions\, and restrictions set forth herein (the “Rules”)\, as well as all applicable local\, state\, and federal laws and regulations. HSNCF’s decisions in all matters concerning the fundraiser and its interpretation and application of the Rules shall be final. Please contact HSNCF if you have questions regarding the Rules or the fundraiser. The fundraiser is void where prohibited by law.\n\n  \n\n Releases. By purchasing an Entry Ticket\, each Ticket Holder releases HSNCF\, its directors\, officers\, employees\, and agents\, from any and all liability with respect to the fundraiser\, including\, but not limited to\, the selection process and the interpretation and application of the Rules\, and from any and all liability for injuries\, losses\, or damages of any kind caused by any prize or resulting from acceptance\, possession\, use\, or misuse of any prize\, and each Ticket Holder agrees to indemnify and hold HSNCF harmless from any and all losses\, damages\, rights\, claims\, and actions of any kind arising in connection with or as a result of the winner’s acceptance or use of any prize. Each Ticket Holder agrees that his/her name\, likeness\, and any statements made by him/her regarding the prize may be used by HSNCF for advertising or publicity purposes in social media\, print publications\, on websites and in other media without compensation\, and in lists of prize winners that may be published or shared.\n\n  \n\nEntry Tickets. The suggested donation to purchase an Entry Ticket for the fundraiser is $100.00 (U.S. Funds only). A maximum of 1\,500 Entries will be sold via the ticket website only. Each Entry Ticket has one name designated to that ticket. Any eligible person may purchase more than one Entry Ticket. Odds of winning depend on the number of valid Entry Tickets sold. Tickets will not be sold after 11:30 p.m.\, Eastern Standard Time (“EST”)\, Wednesday\, June 30\, 2021. Any unsold tickets become the property of HSNCF. Any ticket(s) purchased after the 1\,500 limit has been reached but prior to HSNCF’s removal of the online order form will be invalid and the purchaser’s payment will be refunded. The IRS has taken the position that amounts paid for chances in raffles\, lotteries\, or similar drawings for valuable prizes are not gifts\, and consequently do not qualify as deductible charitable contributions. An Entry Ticket is not valid and shall not be entered in the fundraiser until full and satisfactory donation for such Entry Ticket is received by HSNCF. Tickets are not transferable.\n\n  \n\n Prizes.  A maximum of 1\,500 entries will be sold. Some of the featured bottles include: 5 piece set of Pappy Van Winkle 10\, 12\, 13\, 15 and 20 Years as one lot; 1 bottle OFC 1995 25 year as one lot; 1 bottle of E H Taylor 18 year Marriage\, 1 bottle of E H Taylor Barrel Proof Uncut and Unfiltered\, and 1 bottle George T. Stagg as one lot; 1 bottle of 1792 Sweet Wheat\, 1 bottle of 1792 Full Proof\, 1 bottle of Eagle Rare 10 year\, 1 bottle Blanton’s\, 1 bottle Four Roses Limited Edition 2019 Release\, 1 bottle Four Roses Limited Edition 2020 Release as one lot; 1 Copper Whisky Thief produced by Vendome Copper and Brass Works actually used at Buffalo Trace Distillery with Sazerac Engraving.  Odds of winning are 1:300.  Winners will be contacted after the drawing with details on how to pick-up prizes.\n\n  \n\n Drawing.  The drawing will be conducted live on Facebook on July 1st\, 2021 at approximately 12:30 p.m EST. HSNCF will use a random generator to draw raffle ticket numbers during the virtual online event. HSNCF will maintain a list of raffle tickets drawn and winners associated with such tickets. Entrants may request a copy of the list by emailing Humane Society of North Central Florida at development@humanesocietyncfl.org. HSNCF reserves the right to cancel\, suspend or delay the drawing for any reason
URL:https://www.humanesocietyncfl.org/event/bourbon-fundraiser/
ORGANIZER;CN="Humane Society of North Central Florida":MAILTO:franziska@humanesocietyncfl.org
END:VEVENT
END:VCALENDAR