BEGIN:VCALENDAR
VERSION:2.0
PRODID:-//Humane Society of North Central Florida - ECPv6.15.20//NONSGML v1.0//EN
CALSCALE:GREGORIAN
METHOD:PUBLISH
X-WR-CALNAME:Humane Society of North Central Florida
X-ORIGINAL-URL:https://www.humanesocietyncfl.org
X-WR-CALDESC:Events for Humane Society of North Central Florida
REFRESH-INTERVAL;VALUE=DURATION:PT1H
X-Robots-Tag:noindex
X-PUBLISHED-TTL:PT1H
BEGIN:VTIMEZONE
TZID:America/New_York
BEGIN:DAYLIGHT
TZOFFSETFROM:-0500
TZOFFSETTO:-0400
TZNAME:EDT
DTSTART:20240310T070000
END:DAYLIGHT
BEGIN:STANDARD
TZOFFSETFROM:-0400
TZOFFSETTO:-0500
TZNAME:EST
DTSTART:20241103T060000
END:STANDARD
BEGIN:DAYLIGHT
TZOFFSETFROM:-0500
TZOFFSETTO:-0400
TZNAME:EDT
DTSTART:20250309T070000
END:DAYLIGHT
BEGIN:STANDARD
TZOFFSETFROM:-0400
TZOFFSETTO:-0500
TZNAME:EST
DTSTART:20251102T060000
END:STANDARD
BEGIN:DAYLIGHT
TZOFFSETFROM:-0500
TZOFFSETTO:-0400
TZNAME:EDT
DTSTART:20260308T070000
END:DAYLIGHT
BEGIN:STANDARD
TZOFFSETFROM:-0400
TZOFFSETTO:-0500
TZNAME:EST
DTSTART:20261101T060000
END:STANDARD
END:VTIMEZONE
BEGIN:VEVENT
DTSTART;TZID=America/New_York:20250202T153000
DTEND;TZID=America/New_York:20250202T163000
DTSTAMP:20260423T233141
CREATED:20250220T183957Z
LAST-MODIFIED:20250220T184006Z
UID:4647-1738510200-1738513800@www.humanesocietyncfl.org
SUMMARY:NY Cat Film Festival
DESCRIPTION:  \nSunday\, March 02\, 2025 | 3:30 PM\nSaturday\, March 08\, 2025 | 1:00 PM \nHeld at the Hippodrome Theatre’s Cinema\n25 SE 2nd Pl\, Gainesville\, FL 32601\nPhone: (352) 375-4477 \nTickets here \nThe NY Cat Film Festival™ is a film exploration of the fascinating felines who share our lives. These are not random internet “cat videos” – these are films made with an intention\, concept or story conveying something essential about cats. Cats have a unique and indescribable bond with people – even when living independently as community cats. For far too long\, felines have been the “invisible” part of the human-animal bond. We wish to shine the spotlight on these magnificent creatures and the humans devoted to them. A portion of each ticket will be donated to the Humane Society of North Central Florida. \n 
URL:https://www.humanesocietyncfl.org/event/ny-cat-film-festival/
LOCATION:Hippodrome Theatre\, 25 SE 2nd Pl\, Gainesville\, FL\, 32601\, United States
ORGANIZER;CN="Hippodrome Theatre":MAILTO:boxoffice@thehipp.org
END:VEVENT
BEGIN:VEVENT
DTSTART;TZID=America/New_York:20250208T110000
DTEND;TZID=America/New_York:20250208T150000
DTSTAMP:20260423T233141
CREATED:20250124T190946Z
LAST-MODIFIED:20250130T211151Z
UID:4448-1739012400-1739026800@www.humanesocietyncfl.org
SUMMARY:Paw-fect Match Adoption Event
DESCRIPTION:Adoption Event\nLooking for your valentine? Stop by the Humane Society of North Central Florida on Saturday\, February 8\, from 11 a.m. to 3 p.m.\, and find your perfect match! Give the ultimate Valentine’s gift—a forever home! All adult cats and dogs (5 months and older) have adoption fees of just $14\, thanks to a generous grant from ASPCA!  \nWe’re located at 4205 NW 6th Street\, Gainesville\, FL 32608. \nAll adoptable dogs & cats are sterilized\, microchipped\, and up-to-date on vaccines. \nWant to see some of our adoptable dogs? Click the following link! humanesocietyncfl.org/adopt \n\nFill-a-Bag Clothing Sale\nWhile you’re here\, check out our Fill-A-Bag Clothing Sale at our Humane Society of North Central Florida Thrift Store. Fill a bag with all the clothes you can fit for just $3 to $5! Bags are provided\, and it’s the perfect chance to snag your Valentine’s outfit while supporting pets in need. Learn more here: www.humanesocietyncfl.org/event/fill-a-bag-2025
URL:https://www.humanesocietyncfl.org/event/paw-fect-match-2025/
LOCATION:Humane Society of North Central Florida\, 4205 NW 6th Street\, Gainesville\, FL\, 32609\, United States
CATEGORIES:Paw-fect Match
ORGANIZER;CN="Humane Society of North Central Florida":MAILTO:franziska@humanesocietyncfl.org
END:VEVENT
BEGIN:VEVENT
DTSTART;TZID=America/New_York:20250208T110000
DTEND;TZID=America/New_York:20250208T150000
DTSTAMP:20260423T233141
CREATED:20250124T192033Z
LAST-MODIFIED:20250125T143939Z
UID:4452-1739012400-1739026800@www.humanesocietyncfl.org
SUMMARY:Fill-a-Bag Clothing Sale
DESCRIPTION:Fill-a-Bag Clothing Sale\nDon’t miss our Fill-A-Bag Clothing Sale at the Humane Society of North Central Florida Thrift Store! Fill a bag with all the clothes you can fit for just $3 to $5—bags provided! It’s the perfect chance to snag your Valentine’s outfit while helping pets in need. \nWe’re located at 4205 NW 6th Street\, Gainesville\, FL 32608. \n  \nPaw-fect Match Adoption Event\nWhile you’re here\, stop by the Humane Society of North Central Florida on Saturday\, February 8\, from 11 a.m. to 3 p.m.\, and find your perfect match! Give the ultimate Valentine’s gift—a forever home! All adult cats and dogs (5 months and older) have adoption fees of just $14\, thanks to a generous grant from ASPCA! Learn more here: www.humanesocietyncfl.org/event/paw-fect-match-2025 \nAll adoptable dogs are sterilized\, microchipped\, and up-to-date on vaccines. \nWant to see some of our adoptable dogs? Click the following link! humanesocietyncfl.org/adopt
URL:https://www.humanesocietyncfl.org/event/fill-a-bag-2025/
LOCATION:Humane Society of North Central Florida\, 4205 NW 6th Street\, Gainesville\, FL\, 32609\, United States
CATEGORIES:Paw-fect Match,Thrift Store
ORGANIZER;CN="Humane Society of North Central Florida":MAILTO:franziska@humanesocietyncfl.org
END:VEVENT
BEGIN:VEVENT
DTSTART;TZID=America/New_York:20250228T180000
DTEND;TZID=America/New_York:20250228T203000
DTSTAMP:20260423T233141
CREATED:20250224T175456Z
LAST-MODIFIED:20250224T175456Z
UID:4661-1740765600-1740774600@www.humanesocietyncfl.org
SUMMARY:Pet Fashion Show hosted by Fluidity
DESCRIPTION:Join Fluidity on Friday\, February 28 from 6 p.m. to 8:30 p.m. and witness the wondrous heroes of the 3rd annual Pet Fashion Show benefiting the Humane Society of North Central Florida and Crafting Care at UF! Pets will strut their stuff wearing fabulous designs from Crafting Care at UF. \nOn top of these adorable crime-stoppers\, the show will feature a dance performance from Dalia Simone and tunes by Jeremiah Ludicrous! \nTickets can be purchased at the door of Curia on the Drag (2029 NW 6th St\, Gainesville\, FL 32609). \nAs a reminder: pets that are not modeling in the show are not allowed to attend for the safety of our models and their owners.
URL:https://www.humanesocietyncfl.org/event/pet-fashion-show-hosted-by-fluidity/
LOCATION:Curia on the Drag\, 2029 NW 6th Street\, Gainesville\, 32609\, United States
END:VEVENT
END:VCALENDAR