BEGIN:VCALENDAR
VERSION:2.0
PRODID:-//Humane Society of North Central Florida - ECPv6.15.20//NONSGML v1.0//EN
CALSCALE:GREGORIAN
METHOD:PUBLISH
X-ORIGINAL-URL:https://www.humanesocietyncfl.org
X-WR-CALDESC:Events for Humane Society of North Central Florida
REFRESH-INTERVAL;VALUE=DURATION:PT1H
X-Robots-Tag:noindex
X-PUBLISHED-TTL:PT1H
BEGIN:VTIMEZONE
TZID:America/New_York
BEGIN:DAYLIGHT
TZOFFSETFROM:-0500
TZOFFSETTO:-0400
TZNAME:EDT
DTSTART:20240310T070000
END:DAYLIGHT
BEGIN:STANDARD
TZOFFSETFROM:-0400
TZOFFSETTO:-0500
TZNAME:EST
DTSTART:20241103T060000
END:STANDARD
BEGIN:DAYLIGHT
TZOFFSETFROM:-0500
TZOFFSETTO:-0400
TZNAME:EDT
DTSTART:20250309T070000
END:DAYLIGHT
BEGIN:STANDARD
TZOFFSETFROM:-0400
TZOFFSETTO:-0500
TZNAME:EST
DTSTART:20251102T060000
END:STANDARD
BEGIN:DAYLIGHT
TZOFFSETFROM:-0500
TZOFFSETTO:-0400
TZNAME:EDT
DTSTART:20260308T070000
END:DAYLIGHT
BEGIN:STANDARD
TZOFFSETFROM:-0400
TZOFFSETTO:-0500
TZNAME:EST
DTSTART:20261101T060000
END:STANDARD
END:VTIMEZONE
BEGIN:VEVENT
DTSTART;TZID=America/New_York:20250507T110000
DTEND;TZID=America/New_York:20250507T220000
DTSTAMP:20260423T190403
CREATED:20250506T192451Z
LAST-MODIFIED:20250506T193022Z
UID:5061-1746615600-1746655200@www.humanesocietyncfl.org
SUMMARY:Chow for a Cause: P.F. Chang's Fundraiser Day
DESCRIPTION:Join us for Chow for a Cause\, a delicious way to support our shelter! On the first Wednesday of every month\, starting May 7\, dine at P.F. Chang’s in Butler Town Center from 11 a.m. to 10 p.m.\, and when you mention Humane Society of North Central Florida\, 10% of all sales will be donated to our shelter. \nPlus\, bottles of wine and champagne are half off every Wednesday! \nLocation: P.F. Chang’s – Butler Town Center\, 3597 SW 32nd Ct\, Gainesville\, FL 32608
URL:https://www.humanesocietyncfl.org/event/chow-for-a-cause-may/
LOCATION:P.F. Chang’s\, 3597 SW 32nd Ct\, Gainesville\, FL\, 32608\, United States
CATEGORIES:Humane Society of North Central Florida,P.F. Chang's
END:VEVENT
BEGIN:VEVENT
DTSTART;TZID=America/New_York:20250517T110000
DTEND;TZID=America/New_York:20250517T150000
DTSTAMP:20260423T190403
CREATED:20250505T175208Z
LAST-MODIFIED:20250514T141709Z
UID:5020-1747479600-1747494000@www.humanesocietyncfl.org
SUMMARY:Curia & AUK Market Dog & Puppy Adoption Event
DESCRIPTION:Join us for a dog and puppy Adoption Event at Curia on the Drag & AUK Market! Come out on Saturday\, May 17th\, from 11 a.m. to 3 p.m. to meet some of our sweetest dogs and puppies who are eager to find their forever homes. You might just meet your new best friend! \nAll adoptable dogs are sterilized\, microchipped\, and up-to-date on vaccines. \nWant to see some of our adoptable dogs? Click the following link! humanesocietyncfl.org/adopt
URL:https://www.humanesocietyncfl.org/event/curia-auk-market-adoption-event-may/
LOCATION:Curia on the Drag\, 2029 NW 6th Street\, Gainesville\, 32609\, United States
CATEGORIES:Curia on the Drag
ORGANIZER;CN="Humane Society of North Central Florida":MAILTO:franziska@humanesocietyncfl.org
END:VEVENT
END:VCALENDAR