BEGIN:VCALENDAR
VERSION:2.0
PRODID:-//Humane Society of North Central Florida - ECPv6.15.20//NONSGML v1.0//EN
CALSCALE:GREGORIAN
METHOD:PUBLISH
X-WR-CALNAME:Humane Society of North Central Florida
X-ORIGINAL-URL:https://www.humanesocietyncfl.org
X-WR-CALDESC:Events for Humane Society of North Central Florida
REFRESH-INTERVAL;VALUE=DURATION:PT1H
X-Robots-Tag:noindex
X-PUBLISHED-TTL:PT1H
BEGIN:VTIMEZONE
TZID:America/New_York
BEGIN:DAYLIGHT
TZOFFSETFROM:-0500
TZOFFSETTO:-0400
TZNAME:EDT
DTSTART:20240310T070000
END:DAYLIGHT
BEGIN:STANDARD
TZOFFSETFROM:-0400
TZOFFSETTO:-0500
TZNAME:EST
DTSTART:20241103T060000
END:STANDARD
BEGIN:DAYLIGHT
TZOFFSETFROM:-0500
TZOFFSETTO:-0400
TZNAME:EDT
DTSTART:20250309T070000
END:DAYLIGHT
BEGIN:STANDARD
TZOFFSETFROM:-0400
TZOFFSETTO:-0500
TZNAME:EST
DTSTART:20251102T060000
END:STANDARD
BEGIN:DAYLIGHT
TZOFFSETFROM:-0500
TZOFFSETTO:-0400
TZNAME:EDT
DTSTART:20260308T070000
END:DAYLIGHT
BEGIN:STANDARD
TZOFFSETFROM:-0400
TZOFFSETTO:-0500
TZNAME:EST
DTSTART:20261101T060000
END:STANDARD
END:VTIMEZONE
BEGIN:VEVENT
DTSTART;TZID=America/New_York:20251202T080000
DTEND;TZID=America/New_York:20251202T200000
DTSTAMP:20260423T074711
CREATED:20251201T151420Z
LAST-MODIFIED:20251201T151420Z
UID:5871-1764662400-1764705600@www.humanesocietyncfl.org
SUMMARY:Giving Tuesday 2025
DESCRIPTION:Join Us This Giving Tuesday & Save Lives\nOn Tuesday\, December 2\, from 8 a.m. to 8 p.m.\, we’re joining the global day of generosity. We need our community more than ever! \nWhen you donate\, you’re doing more than giving; you’re saving lives. \nYour gift helps:\n– End the needless euthanasia of healthy\, treatable pets\n– Provide critical medical care to animals in crisis\n– Support spay/neuter outreach and education\n– Create brighter futures for pets and the families who love them \nMake Your Impact Today\nEvery dollar strengthens our community and helps animals who have nowhere else to turn. \nTogether\, We Save Lives\nYour Giving Tuesday contribution ensures pets get the second chance they deserve. Thank you for standing with the Humane Society of North Central Florida and making a true lifesaving impact. \nDonate today because hope begins with you. \nAll donations are tax-deductible to the extent permitted by law.
URL:https://www.humanesocietyncfl.org/event/giving-tuesday-2025/
ORGANIZER;CN="Humane Society of North Central Florida":MAILTO:franziska@humanesocietyncfl.org
END:VEVENT
BEGIN:VEVENT
DTSTART;TZID=America/New_York:20251205T110000
DTEND;TZID=America/New_York:20251205T220000
DTSTAMP:20260423T074711
CREATED:20251201T145713Z
LAST-MODIFIED:20251201T145713Z
UID:5857-1764932400-1764972000@www.humanesocietyncfl.org
SUMMARY:Chow for a Cause: P.F. Chang's Fundraiser Day
DESCRIPTION:Join us for Chow for a Cause\, a delicious way to support our shelter on Friday\, December 5! On the first Friday of every month\, dine (or take out!) at P.F. Chang’s in Butler Town Center from 11 a.m. to 10 p.m.\, and when you MENTION Humane Society of North Central Florida\, 10% of all sales will be donated to our shelter. \nLocation: P.F. Chang’s – Butler Town Center\, 3597 SW 32nd Ct\, Gainesville\, FL 32608
URL:https://www.humanesocietyncfl.org/event/chow-for-a-cause-dec/
LOCATION:P.F. Chang’s\, 3597 SW 32nd Ct\, Gainesville\, FL\, 32608\, United States
CATEGORIES:Humane Society of North Central Florida,P.F. Chang's
END:VEVENT
BEGIN:VEVENT
DTSTART;TZID=America/New_York:20251206T080000
DTEND;TZID=America/New_York:20251206T110000
DTSTAMP:20260423T074711
CREATED:20251014T160303Z
LAST-MODIFIED:20251015T174440Z
UID:5729-1765008000-1765018800@www.humanesocietyncfl.org
SUMMARY:Santa Paws 5k-9 and 10K-9 Run/Walk
DESCRIPTION:🎅🐾 Join Us for the 4th Annual Santa Paws 5K-9\, 10K-9 & 1-Mile Run/Walk! 🐾🎅\n  \nGet ready to lace up your running shoes and grab your furry friends—Santa Paws is back! This festive\, fun-filled race takes place in beautiful Gainesville\, FL\, and benefits the Humane Society of North Central Florida\, an organization dedicated to improving the lives of homeless pets and building a compassionate\, animal-focused community. \nEvent Details:📅 Date: Saturday\, December 6\, 2025⏰ Time: 8:00 AM📍 Location: Albert “Ray” Massey Westside Park\, Gainesville\, FL🏃‍♂️ Distances: 5K-9\, 10K-9\, and 1-Mile Run/Walk⏱ Timing: Chip timed with live results \nWhy Join? \n\nRun\, walk\, or stroll with your dog and fellow animal lovers.\nHelp us reach our goal of $10\,000 to support re-homing animals in need.\nHonor the memory of Dozer\, Jonathan’s beloved dog\nBe part of a team! Form a Santa Paws Team: when your team reaches 4 members\, the first three who started the team will have their registration fee reduced to just $20!\n\nWhether you’re a seasoned runner or just looking for a fun way to celebrate the holiday season with your furry companion\, Santa Paws is for you! \nSign up or donate today: Santa Paws Registration \nLet’s make a difference in the lives of pets and their humans while celebrating the joy of the season. See you at the start line! 🐶🎄
URL:https://www.humanesocietyncfl.org/event/santa-paws-5k-9-and-10k-9-run-walk/
LOCATION:Albert Ray Massey Park\, 1001 NW 34th St\, Gainesville\, FL\, 32605\, United States
CATEGORIES:Humane Society of North Central Florida
ORGANIZER;CN="The Mills Group":MAILTO:meg@themillsgroupkw.com
END:VEVENT
BEGIN:VEVENT
DTSTART;TZID=America/New_York:20251206T100000
DTEND;TZID=America/New_York:20251206T160000
DTSTAMP:20260423T074711
CREATED:20251202T145058Z
LAST-MODIFIED:20251202T145058Z
UID:5904-1765015200-1765036800@www.humanesocietyncfl.org
SUMMARY:December Fill-a-Bag Clothing Sale
DESCRIPTION:Our Humane Society of North Central Florida Thrift Store December Fill-A-Bag Clothing Sale is here! For just $5\, you can fill a bag with as many clothes as you can fit. Bags provided! \nDate & Time: Saturday\, December 6 | 10 a.m. – 4 p.m.\nLocation: HSNCF Thrift Store | 4205 NW 6th St\, Gainesville\, FL \nEvery purchase helps support pets in need\, so shop big and save lives!
URL:https://www.humanesocietyncfl.org/event/dec-fill-a-bag/
LOCATION:Humane Society of North Central Florida\, 4205 NW 6th Street\, Gainesville\, FL\, 32609\, United States
CATEGORIES:Thrift Store
END:VEVENT
BEGIN:VEVENT
DTSTART;TZID=America/New_York:20251206T140000
DTEND;TZID=America/New_York:20251206T170000
DTSTAMP:20260423T074711
CREATED:20251124T195818Z
LAST-MODIFIED:20251124T195818Z
UID:5833-1765029600-1765040400@www.humanesocietyncfl.org
SUMMARY:Pours for Paws Wine Fundraiser Benefiting HSNCF
DESCRIPTION:Join us on December 6 and 13 for Pours for Paws: Puppies on the Patio\, hosted by Raise Your Glass Wine Bar and benefiting the Humane Society of North Central Florida. Bring your pup\, relax with a glass of wine\, and help support pets in need. All proceeds and donated pet supplies go directly to HSNCF. \nDecember 6: Donation Drive2–5 p.m.Stop by\, hang out on the patio\, and bring pet supplies to support animals in our care. \nDecember 13: Dog Show2–5 p.m. (Dog Show begins at 4 p.m.)Entry: $15 or a bag of dog foodRegister your pup by 3:30 p.m. to participate. \nChoose up to three categories for your dog to compete in:Waggiest Tail • Best Kisser • Bad Hair Day • Treat Catcher • Lookalike • Trickster • Ugly Sweater \nCome out for a fun afternoon\, support local pets\, and show off your pup’s best talents!
URL:https://www.humanesocietyncfl.org/event/hsncf-pours-for-paws/
LOCATION:Raise Your Glass Wine Bar\, 7415 NW 4th Blvd suite 30\, Gainesville\, Florida\, 32607\, United States
CATEGORIES:Humane Society of North Central Florida
ORGANIZER;CN="Raise Your Glass Wine Bar":MAILTO:Manager@raiseyourglasswinebar.com
END:VEVENT
BEGIN:VEVENT
DTSTART;TZID=America/New_York:20251210T133000
DTEND;TZID=America/New_York:20251210T163000
DTSTAMP:20260423T074711
CREATED:20251201T193206Z
LAST-MODIFIED:20251201T193304Z
UID:5882-1765373400-1765384200@www.humanesocietyncfl.org
SUMMARY:Rescued Hearts Calendar Signing at Fire Station #1
DESCRIPTION:Join the Humane Society of North Central Florida and Gainesville Fire Rescue for a festive and family-friendly evening at GFR Fire Station #1! This free community event is the perfect way to kick off the holidays and support a great cause.\n  \nBring the whole family to: Take guided fire station tours\n Get your copy of the Rescued Hearts 2026 Calendar\, and have it signed by the firefighters and the featured pups! Meet Santa and snap a holiday photo Meet the firefighters who serve your community Enjoy snacks and hot chocolate\n\nGet Your Calendar NOW or at the Station \nAll calendar proceeds support the Humane Society and Gainesville Fire Rescue\, so come out\, have fun\, and help us reach our goal. We can’t wait to celebrate the season with you! \n  \nEvent Details: \nDate: Wednesday\, December 10\nTime: 1:30 p.m. to 4:30 p.m.\nLocation: Gainesville Fire Rescue Station #1\, 525 S Main St\, Gainesville\, FL 32601-6721
URL:https://www.humanesocietyncfl.org/event/calendar-signing/
LOCATION:Gainesville Fire Rescue Station 1\, 525 S Main Street\, Gainesville\, FL\, 32601\, United States
CATEGORIES:Humane Society of North Central Florida
ORGANIZER;CN="Gainesville Fire Rescue":MAILTO:gfrpio@gainesvillefl.gov
END:VEVENT
BEGIN:VEVENT
DTSTART;TZID=America/New_York:20251213T110000
DTEND;TZID=America/New_York:20251213T150000
DTSTAMP:20260423T074711
CREATED:20251114T191042Z
LAST-MODIFIED:20251126T151448Z
UID:5813-1765623600-1765638000@www.humanesocietyncfl.org
SUMMARY:Adoption Event: Home for the Holidays
DESCRIPTION:🎄 Home for the Holidays Adoption Event 🎁\nDecember 13 | 11 AM – 3 PM\nCelebrate the magic of the season by joining us for the Humane Society of North Central Florida’s Home for the Holidays adoption event! Give a deserving pet the greatest gift of all—a loving forever home—and start creating cherished memories and holiday traditions together. \nWe’re thrilled to offer reduced adoption fees for dogs and cats 5 months and older\, thanks to a generous grant from the ASPCA: \nDogs: $50 and Cats: $25 \nEvery pet adopted from HSNCFL is spayed/neutered\, microchipped\, and up-to-date on vaccines\, so your new best friend is ready to start the holidays by your side. \nBring your family\, enjoy the festive spirit\, and meet pets who are hoping to go home for the holidays. We can’t wait to help you find your perfect match!
URL:https://www.humanesocietyncfl.org/event/adoption-event-home-for-the-holidays/
LOCATION:Humane Society of North Central Florida\, 4205 NW 6th Street\, Gainesville\, FL\, 32609\, United States
ORGANIZER;CN="Humane Society of North Central Florida":MAILTO:franziska@humanesocietyncfl.org
END:VEVENT
BEGIN:VEVENT
DTSTART;TZID=America/New_York:20251213T140000
DTEND;TZID=America/New_York:20251213T170000
DTSTAMP:20260423T074711
CREATED:20251120T181311Z
LAST-MODIFIED:20251120T213935Z
UID:5818-1765634400-1765645200@www.humanesocietyncfl.org
SUMMARY:Pours for Paws Wine Fundraiser Benefiting HSNCF
DESCRIPTION:Join us on December 6 and 13 for Pours for Paws: Puppies on the Patio\, hosted by Raise Your Glass Wine Bar and benefiting the Humane Society of North Central Florida. Bring your pup\, relax with a glass of wine\, and help support pets in need. All proceeds and donated pet supplies go directly to HSNCF. \nDecember 6: Donation Drive2–5 p.m.Stop by\, hang out on the patio\, and bring pet supplies to support animals in our care. \nDecember 13: Dog Show2–5 p.m. (Dog Show begins at 4 p.m.)Entry: $15 or a bag of dog foodRegister your pup by 3:30 p.m. to participate. \nChoose up to three categories for your dog to compete in:Waggiest Tail • Best Kisser • Bad Hair Day • Treat Catcher • Lookalike • Trickster • Ugly Sweater \nCome out for a fun afternoon\, support local pets\, and show off your pup’s best talents!
URL:https://www.humanesocietyncfl.org/event/pours-for-paws/
LOCATION:Raise Your Glass Wine Bar\, 7415 NW 4th Blvd suite 30\, Gainesville\, Florida\, 32607\, United States
CATEGORIES:Humane Society of North Central Florida
ORGANIZER;CN="Raise Your Glass Wine Bar":MAILTO:Manager@raiseyourglasswinebar.com
END:VEVENT
END:VCALENDAR