BEGIN:VCALENDAR
VERSION:2.0
PRODID:-//Humane Society of North Central Florida - ECPv6.15.20//NONSGML v1.0//EN
CALSCALE:GREGORIAN
METHOD:PUBLISH
X-WR-CALNAME:Humane Society of North Central Florida
X-ORIGINAL-URL:https://www.humanesocietyncfl.org
X-WR-CALDESC:Events for Humane Society of North Central Florida
REFRESH-INTERVAL;VALUE=DURATION:PT1H
X-Robots-Tag:noindex
X-PUBLISHED-TTL:PT1H
BEGIN:VTIMEZONE
TZID:America/New_York
BEGIN:DAYLIGHT
TZOFFSETFROM:-0500
TZOFFSETTO:-0400
TZNAME:EDT
DTSTART:20240310T070000
END:DAYLIGHT
BEGIN:STANDARD
TZOFFSETFROM:-0400
TZOFFSETTO:-0500
TZNAME:EST
DTSTART:20241103T060000
END:STANDARD
BEGIN:DAYLIGHT
TZOFFSETFROM:-0500
TZOFFSETTO:-0400
TZNAME:EDT
DTSTART:20250309T070000
END:DAYLIGHT
BEGIN:STANDARD
TZOFFSETFROM:-0400
TZOFFSETTO:-0500
TZNAME:EST
DTSTART:20251102T060000
END:STANDARD
BEGIN:DAYLIGHT
TZOFFSETFROM:-0500
TZOFFSETTO:-0400
TZNAME:EDT
DTSTART:20260308T070000
END:DAYLIGHT
BEGIN:STANDARD
TZOFFSETFROM:-0400
TZOFFSETTO:-0500
TZNAME:EST
DTSTART:20261101T060000
END:STANDARD
END:VTIMEZONE
BEGIN:VEVENT
DTSTART;TZID=America/New_York:20251101T110000
DTEND;TZID=America/New_York:20251101T140000
DTSTAMP:20260423T173832
CREATED:20251020T143658Z
LAST-MODIFIED:20251020T144049Z
UID:5769-1761994800-1762005600@www.humanesocietyncfl.org
SUMMARY:Curia & AUK Market Dog & Puppy Adoption Event
DESCRIPTION:Join us for a dog and puppy Adoption Event at Curia on the Drag & AUK Market! Come out on Saturday\, November 1st\, from 11 a.m. to 2 p.m. to meet some of our sweetest dogs and puppies who are eager to find their forever homes. You might just meet your new best friend! \nYou’ll get the unique chance to sit down with our amazing foster families\, ask questions\, and truly get to know each dog in a calm\, welcoming setting. \nAll adoptable dogs are sterilized\, microchipped\, and up-to-date on vaccines. \nWant to see some of our adoptable dogs? Click the following link! humanesocietyncfl.org/adopt \nEvent Details:\nWHEN: Saturday\, September 27\, from 11 a.m. to 3 p.m.\nWHERE: Curia on the Drag & Auk Market\, 2029 NW 6th St\, Gainesville\, FL 32609
URL:https://www.humanesocietyncfl.org/event/curia-auk-adoption/
LOCATION:Curia on the Drag\, 2029 NW 6th Street\, Gainesville\, 32609\, United States
CATEGORIES:Curia on the Drag
ORGANIZER;CN="Humane Society of North Central Florida":MAILTO:franziska@humanesocietyncfl.org
END:VEVENT
BEGIN:VEVENT
DTSTART;TZID=America/New_York:20251122T110000
DTEND;TZID=America/New_York:20251122T140000
DTSTAMP:20260423T173832
CREATED:20251113T174538Z
LAST-MODIFIED:20251114T191228Z
UID:5806-1763809200-1763820000@www.humanesocietyncfl.org
SUMMARY:Adoption Event: Open Kennel Day
DESCRIPTION:  \nJoin us on Saturday\, November 22\, from 11 a.m. to 2 p.m.\, to meet some of our lovable cats and dogs searching for their forever homes! \n  \nWith an approved adoption application\, you’ll have the opportunity to walk through our dog kennel area and meet our adoptable pets up close. The application only takes a few minutes to complete\, and once approved\, it’s valid for a whole year! \n  \nApply now or before you arrive: \n\nDog Adoption Application: www.shelterluv.com/matchme/adopt/CHUA/Dog\nCat Adoption Application: www.shelterluv.com/matchme/adopt/CHUA/Cat\n\n  \nOur cat rooms will also be open for visitors to meet and mingle with our feline friends! \n  \nThanks to the ASPCA\, we’ll be offering reduced adoption fees for adult cats and dogs 5 months and older. \n\nDogs: $100\nCats: $50\n\n  \nAll of our adoptable pets are spayed/neutered\, microchipped\, and up-to-date on vaccines. \n  \nSee who’s available here: humanesocietyncfl.org/adopt
URL:https://www.humanesocietyncfl.org/event/nov-open-kennel/
LOCATION:Humane Society of North Central Florida\, 4205 NW 6th Street\, Gainesville\, FL\, 32609\, United States
CATEGORIES:Humane Society of North Central Florida
ORGANIZER;CN="Humane Society of North Central Florida":MAILTO:franziska@humanesocietyncfl.org
END:VEVENT
END:VCALENDAR