BEGIN:VCALENDAR
VERSION:2.0
PRODID:-//Humane Society of North Central Florida - ECPv6.15.20//NONSGML v1.0//EN
CALSCALE:GREGORIAN
METHOD:PUBLISH
X-ORIGINAL-URL:https://www.humanesocietyncfl.org
X-WR-CALDESC:Events for Humane Society of North Central Florida
REFRESH-INTERVAL;VALUE=DURATION:PT1H
X-Robots-Tag:noindex
X-PUBLISHED-TTL:PT1H
BEGIN:VTIMEZONE
TZID:America/New_York
BEGIN:DAYLIGHT
TZOFFSETFROM:-0500
TZOFFSETTO:-0400
TZNAME:EDT
DTSTART:20240310T070000
END:DAYLIGHT
BEGIN:STANDARD
TZOFFSETFROM:-0400
TZOFFSETTO:-0500
TZNAME:EST
DTSTART:20241103T060000
END:STANDARD
BEGIN:DAYLIGHT
TZOFFSETFROM:-0500
TZOFFSETTO:-0400
TZNAME:EDT
DTSTART:20250309T070000
END:DAYLIGHT
BEGIN:STANDARD
TZOFFSETFROM:-0400
TZOFFSETTO:-0500
TZNAME:EST
DTSTART:20251102T060000
END:STANDARD
BEGIN:DAYLIGHT
TZOFFSETFROM:-0500
TZOFFSETTO:-0400
TZNAME:EDT
DTSTART:20260308T070000
END:DAYLIGHT
BEGIN:STANDARD
TZOFFSETFROM:-0400
TZOFFSETTO:-0500
TZNAME:EST
DTSTART:20261101T060000
END:STANDARD
END:VTIMEZONE
BEGIN:VEVENT
DTSTART;TZID=America/New_York:20250426T110000
DTEND;TZID=America/New_York:20250426T150000
DTSTAMP:20260424T084134
CREATED:20250410T141948Z
LAST-MODIFIED:20250414T181105Z
UID:4763-1745665200-1745679600@www.humanesocietyncfl.org
SUMMARY:Marc Radio Adoption Event
DESCRIPTION:  \n\n\n\nTune in and find your new best friend! Join us Saturday\, April 26\, from 11 a.m. to 3 p.m. for a special adoption event presented by Scenthound and featuring a LIVE broadcast from MARC Media Group stations from our shelter. \nStop by the Humane Society of North Central Florida to meet your future best friend and enjoy a day full of tail wags\, happy faces\, and second chances. Plus\, thanks to a grant from the ASPCA\, all adult dog adoptions (5+ months) are $100! \nWant a sneak peek? Visit humanesocietyncfl.org/adopt to see all our adoptable cats and dogs. Every pet is spayed/neutered\, microchipped\, and up-to-date on vaccines. \nWe’re also incredibly grateful to EarthWise Pet Gainesville\, Tomlinson Motor Company\, and Pavlov Media for their generous support in helping make this event possible. \nEvent Details: \n\n\n\n\n\n\nSaturday\, April 26\, from 11 a.m. – 3 p.m.\nHumane Society of North Central Florida\, 4205 NW 6th Street\, Gainesville\, FL 32609\n\n\n\n  \nThank you to the following incredibly generous supporting stations and media groups!
URL:https://www.humanesocietyncfl.org/event/marc-radio-adoption-event/
LOCATION:Humane Society of North Central Florida\, 4205 NW 6th Street\, Gainesville\, FL\, 32609\, United States
CATEGORIES:Humane Society of North Central Florida
ORGANIZER;CN="Humane Society of North Central Florida":MAILTO:franziska@humanesocietyncfl.org
END:VEVENT
END:VCALENDAR