BEGIN:VCALENDAR
VERSION:2.0
PRODID:-//Humane Society of North Central Florida - ECPv6.15.20//NONSGML v1.0//EN
CALSCALE:GREGORIAN
METHOD:PUBLISH
X-ORIGINAL-URL:https://www.humanesocietyncfl.org
X-WR-CALDESC:Events for Humane Society of North Central Florida
REFRESH-INTERVAL;VALUE=DURATION:PT1H
X-Robots-Tag:noindex
X-PUBLISHED-TTL:PT1H
BEGIN:VTIMEZONE
TZID:America/New_York
BEGIN:DAYLIGHT
TZOFFSETFROM:-0500
TZOFFSETTO:-0400
TZNAME:EDT
DTSTART:20230312T070000
END:DAYLIGHT
BEGIN:STANDARD
TZOFFSETFROM:-0400
TZOFFSETTO:-0500
TZNAME:EST
DTSTART:20231105T060000
END:STANDARD
BEGIN:DAYLIGHT
TZOFFSETFROM:-0500
TZOFFSETTO:-0400
TZNAME:EDT
DTSTART:20240310T070000
END:DAYLIGHT
BEGIN:STANDARD
TZOFFSETFROM:-0400
TZOFFSETTO:-0500
TZNAME:EST
DTSTART:20241103T060000
END:STANDARD
BEGIN:DAYLIGHT
TZOFFSETFROM:-0500
TZOFFSETTO:-0400
TZNAME:EDT
DTSTART:20250309T070000
END:DAYLIGHT
BEGIN:STANDARD
TZOFFSETFROM:-0400
TZOFFSETTO:-0500
TZNAME:EST
DTSTART:20251102T060000
END:STANDARD
END:VTIMEZONE
BEGIN:VEVENT
DTSTART;VALUE=DATE:20240821
DTEND;VALUE=DATE:20240825
DTSTAMP:20260424T214249
CREATED:20240726T131441Z
LAST-MODIFIED:20240813T182207Z
UID:3929-1724198400-1724543999@www.humanesocietyncfl.org
SUMMARY:Pittie Clothing Co. HSNCF BOGO Sale
DESCRIPTION:Looking for the perfect matching PJs for you and your pittie? Your search ends here! Pittie Clothing Co. is thrilled to offer a fantastic Buy One Get One sale in support of the HSNCF! Just use the code “HSNCF24” at checkout to snag this deal and make a difference. This sale runs from Wednesday\, August 21 to Sunday\, August 24\, 2024. \nPlus\, for every Doggy PJ/Muscle tee purchased\, Pittie Clothing Co. will donate an additional set to support the HSNCF! \nDon’t miss out—visit pittieclothing.com now to grab your stylish matching PJs and contribute to a great cause. \nNote: This offer cannot be combined with any other discount codes.
URL:https://www.humanesocietyncfl.org/event/pittie-clothing-co-hsncf-bogo-sale/
CATEGORIES:Shop for a Cause
END:VEVENT
END:VCALENDAR