BEGIN:VCALENDAR
VERSION:2.0
PRODID:-//Humane Society of North Central Florida - ECPv6.15.20//NONSGML v1.0//EN
CALSCALE:GREGORIAN
METHOD:PUBLISH
X-ORIGINAL-URL:https://www.humanesocietyncfl.org
X-WR-CALDESC:Events for Humane Society of North Central Florida
REFRESH-INTERVAL;VALUE=DURATION:PT1H
X-Robots-Tag:noindex
X-PUBLISHED-TTL:PT1H
BEGIN:VTIMEZONE
TZID:America/New_York
BEGIN:DAYLIGHT
TZOFFSETFROM:-0500
TZOFFSETTO:-0400
TZNAME:EDT
DTSTART:20230312T070000
END:DAYLIGHT
BEGIN:STANDARD
TZOFFSETFROM:-0400
TZOFFSETTO:-0500
TZNAME:EST
DTSTART:20231105T060000
END:STANDARD
BEGIN:DAYLIGHT
TZOFFSETFROM:-0500
TZOFFSETTO:-0400
TZNAME:EDT
DTSTART:20240310T070000
END:DAYLIGHT
BEGIN:STANDARD
TZOFFSETFROM:-0400
TZOFFSETTO:-0500
TZNAME:EST
DTSTART:20241103T060000
END:STANDARD
BEGIN:DAYLIGHT
TZOFFSETFROM:-0500
TZOFFSETTO:-0400
TZNAME:EDT
DTSTART:20250309T070000
END:DAYLIGHT
BEGIN:STANDARD
TZOFFSETFROM:-0400
TZOFFSETTO:-0500
TZNAME:EST
DTSTART:20251102T060000
END:STANDARD
END:VTIMEZONE
BEGIN:VEVENT
DTSTART;VALUE=DATE:20240810
DTEND;VALUE=DATE:20240911
DTSTAMP:20260424T155801
CREATED:20240813T181627Z
LAST-MODIFIED:20240813T201251Z
UID:3967-1723248000-1726012799@www.humanesocietyncfl.org
SUMMARY:
DESCRIPTION:Exciting news! The 10th anniversary of Clear the Shelters kicked off on Saturday\, August 10! \nTo celebrate the first week\, we’ve got a special MATCH challenge! Starting Tuesday\, August 13 Hill’s Pet Nutrition and The Animal Rescue Site by GreaterGood will match every donation dollar for dollar up to $10\,000. This is your chance to double your impact—help us save even more lives by donating through this link: donate.clearthesheltersfund.org/page/hs-NorthCentralFlorida \nAll proceeds go directly to our life-saving efforts! \nThe Clear the Shelters campaign\, hosted by NBCUniversal Local\, runs from Saturday\, August 10 to Tuesday\, September 10\, 2024. Each week will bring new ways to support us and shelters across the country. Don’t miss out on being part of this amazing cause!
URL:https://www.humanesocietyncfl.org/event/3967/
CATEGORIES:Clear the Shelters
END:VEVENT
BEGIN:VEVENT
DTSTART;VALUE=DATE:20240923
DTEND;VALUE=DATE:20241012
DTSTAMP:20260424T155801
CREATED:20240923T190856Z
LAST-MODIFIED:20240923T191302Z
UID:4101-1727049600-1728691199@www.humanesocietyncfl.org
SUMMARY:Halloween Pet Photo Contest
DESCRIPTION:Spooky season is just around the corner! Time to dust off that Halloween spirit—for you AND your furry friends! Get your furry friend into the Halloween spirit and snap a hauntingly cute picture! \nEnter your photo at the with link below for a chance to win frightfully fantastic Halloween goodies for your pet\, exclusive HSNCF swag\, and more! Plus\, your picture will be posted on our social media! \nEnter Here: www.gogophotocontest.com/hsncfhalloweenpetphotocontest \nEach entry is just $10\, with all proceeds supporting our life-saving efforts! \nEntry: September 23 to October 2\nPublic Voting: October 3 to October 11\nWinner Announced: October 14 \nQuestions? Email us at development@humanesocietyncfl.org. \nHappy haunting\, and may the spookiest pet win!
URL:https://www.humanesocietyncfl.org/event/halloween-pet-photo-contest/
CATEGORIES:Photo Contest
ORGANIZER;CN="Humane Society of North Central Florida":MAILTO:franziska@humanesocietyncfl.org
END:VEVENT
END:VCALENDAR