BEGIN:VCALENDAR
VERSION:2.0
PRODID:-//Humane Society of North Central Florida - ECPv6.15.20//NONSGML v1.0//EN
CALSCALE:GREGORIAN
METHOD:PUBLISH
X-WR-CALNAME:Humane Society of North Central Florida
X-ORIGINAL-URL:https://www.humanesocietyncfl.org
X-WR-CALDESC:Events for Humane Society of North Central Florida
REFRESH-INTERVAL;VALUE=DURATION:PT1H
X-Robots-Tag:noindex
X-PUBLISHED-TTL:PT1H
BEGIN:VTIMEZONE
TZID:America/New_York
BEGIN:DAYLIGHT
TZOFFSETFROM:-0500
TZOFFSETTO:-0400
TZNAME:EDT
DTSTART:20230312T070000
END:DAYLIGHT
BEGIN:STANDARD
TZOFFSETFROM:-0400
TZOFFSETTO:-0500
TZNAME:EST
DTSTART:20231105T060000
END:STANDARD
BEGIN:DAYLIGHT
TZOFFSETFROM:-0500
TZOFFSETTO:-0400
TZNAME:EDT
DTSTART:20240310T070000
END:DAYLIGHT
BEGIN:STANDARD
TZOFFSETFROM:-0400
TZOFFSETTO:-0500
TZNAME:EST
DTSTART:20241103T060000
END:STANDARD
BEGIN:DAYLIGHT
TZOFFSETFROM:-0500
TZOFFSETTO:-0400
TZNAME:EDT
DTSTART:20250309T070000
END:DAYLIGHT
BEGIN:STANDARD
TZOFFSETFROM:-0400
TZOFFSETTO:-0500
TZNAME:EST
DTSTART:20251102T060000
END:STANDARD
END:VTIMEZONE
BEGIN:VEVENT
DTSTART;TZID=America/New_York:20241019T110000
DTEND;TZID=America/New_York:20241019T150000
DTSTAMP:20260424T115103
CREATED:20240925T182539Z
LAST-MODIFIED:20241022T171159Z
UID:4119-1729335600-1729350000@www.humanesocietyncfl.org
SUMMARY:Halloween Empty the Shelters Adoption Event - Dogs & Cats
DESCRIPTION:RESCHEDULED: Get ready for a hauntingly fun time at our Empty the Shelters Halloween Adoption Event on Saturday\, October 19\, from 11 a.m. to 3 p.m. at the Humane Society of North Central Florida\, 4205 NW 6th Street\, Gainesville\, FL 32609! \nWe’ve got cats\, kittens\, dogs\, and puppies just waiting to find their forever homes. \nStarting October 1 to October 15: Bissell Pet Foundation is sponsoring reduced adoption fees for HSNCF and Feeline Good Cat Café! \n🐶 Dog Adoption Fee: $50\n🐱 Cat Adoption Fee: $25\n(Puppies and kittens not included) \nFor more info about Empty the Shelters\, visit bissellpetfoundation.org/ets \nAll adoptable dogs are sterilized\, microchipped\, and up-to-date on vaccines. Want to see some of our adoptable dogs? Click the following link! humanesocietyncfl.org/adopt
URL:https://www.humanesocietyncfl.org/event/halloween-empty-the-shelters-adoption-event/
LOCATION:Humane Society of North Central Florida\, 4205 NW 6th Street\, Gainesville\, FL\, 32609\, United States
CATEGORIES:Humane Society of North Central Florida
ORGANIZER;CN="Humane Society of North Central Florida":MAILTO:franziska@humanesocietyncfl.org
END:VEVENT
BEGIN:VEVENT
DTSTART;TZID=America/New_York:20241026T110000
DTEND;TZID=America/New_York:20241026T150000
DTSTAMP:20260424T115103
CREATED:20241022T171027Z
LAST-MODIFIED:20241022T171107Z
UID:4177-1729940400-1729954800@www.humanesocietyncfl.org
SUMMARY:PetSmart Millhopper Adoption Event - Cats & Dogs
DESCRIPTION:  \nJoin us at PetSmart Millhopper on Saturday\, October 26 from 11 a.m. to 3 p.m. for the PetSmart Charities National Adoption Week! We’ll have tons of dogs\, puppies\, cats\, and kittens ready to find their forever home! \nVisit our website by clicking the link to view our available animals! www.humanesocietyncfl.org/adopt \n\nAll adoptable cats and dogs are sterilized\, microchipped\, and up-to-date on vaccines.
URL:https://www.humanesocietyncfl.org/event/petsmart-millhopper-adoption-event-cats-dogs/
LOCATION:PetSmart Millhopper\, 4119 NW 16th Blvd\, Gainesville\, FL\, 32605\, United States
CATEGORIES:PetSmart
ORGANIZER;CN="Humane Society of North Central Florida":MAILTO:franziska@humanesocietyncfl.org
END:VEVENT
END:VCALENDAR