BEGIN:VCALENDAR
VERSION:2.0
PRODID:-//Humane Society of North Central Florida - ECPv6.15.20//NONSGML v1.0//EN
CALSCALE:GREGORIAN
METHOD:PUBLISH
X-ORIGINAL-URL:https://www.humanesocietyncfl.org
X-WR-CALDESC:Events for Humane Society of North Central Florida
REFRESH-INTERVAL;VALUE=DURATION:PT1H
X-Robots-Tag:noindex
X-PUBLISHED-TTL:PT1H
BEGIN:VTIMEZONE
TZID:America/New_York
BEGIN:DAYLIGHT
TZOFFSETFROM:-0500
TZOFFSETTO:-0400
TZNAME:EDT
DTSTART:20240310T070000
END:DAYLIGHT
BEGIN:STANDARD
TZOFFSETFROM:-0400
TZOFFSETTO:-0500
TZNAME:EST
DTSTART:20241103T060000
END:STANDARD
BEGIN:DAYLIGHT
TZOFFSETFROM:-0500
TZOFFSETTO:-0400
TZNAME:EDT
DTSTART:20250309T070000
END:DAYLIGHT
BEGIN:STANDARD
TZOFFSETFROM:-0400
TZOFFSETTO:-0500
TZNAME:EST
DTSTART:20251102T060000
END:STANDARD
BEGIN:DAYLIGHT
TZOFFSETFROM:-0500
TZOFFSETTO:-0400
TZNAME:EDT
DTSTART:20260308T070000
END:DAYLIGHT
BEGIN:STANDARD
TZOFFSETFROM:-0400
TZOFFSETTO:-0500
TZNAME:EST
DTSTART:20261101T060000
END:STANDARD
END:VTIMEZONE
BEGIN:VEVENT
DTSTART;TZID=America/New_York:20251107T110000
DTEND;TZID=America/New_York:20251107T220000
DTSTAMP:20260423T111228
CREATED:20251029T202050Z
LAST-MODIFIED:20251029T202050Z
UID:5783-1762513200-1762552800@www.humanesocietyncfl.org
SUMMARY:Chow for a Cause: P.F. Chang's Fundraiser Day
DESCRIPTION:Join us for Chow for a Cause\, a delicious way to support our shelter on Friday\, November 7! On the first Friday of every month\, dine (or take out!) at P.F. Chang’s in Butler Town Center from 11 a.m. to 10 p.m.\, and when you MENTION Humane Society of North Central Florida\, 10% of all sales will be donated to our shelter. \nLocation: P.F. Chang’s – Butler Town Center\, 3597 SW 32nd Ct\, Gainesville\, FL 32608
URL:https://www.humanesocietyncfl.org/event/nov-chow-for-a-cause/
LOCATION:P.F. Chang’s\, 3597 SW 32nd Ct\, Gainesville\, FL\, 32608\, United States
CATEGORIES:Humane Society of North Central Florida,P.F. Chang's
END:VEVENT
BEGIN:VEVENT
DTSTART;VALUE=DATE:20251115
DTEND;VALUE=DATE:20251117
DTSTAMP:20260423T111228
CREATED:20251015T174050Z
LAST-MODIFIED:20251015T174050Z
UID:5743-1763164800-1763337599@www.humanesocietyncfl.org
SUMMARY:Infinity Con - Ticket Fundraiser
DESCRIPTION:Get ready for a weekend full of fandom\, fun\, and fundraising! Join Infinity Con\, Gainesville’s ultimate pop culture experience\, celebrating the worlds of comics\, gaming\, anime\, and art. With special guests\, panels\, cosplay\, tabletop and video gaming\, and entertainment for all ages\, there’s something for every fan to enjoy! \nEven better\, when you purchase your tickets using our special link\, 15% of the proceeds will directly support the Humane Society of North Central Florida\, helping us continue our lifesaving work for pets in need. \n🎟️ Get your tickets and support local pets here: eventeny.com/events/ticket/?id=17085&ac=HSGNV \nDon’t miss this one-of-a-kind event that combines creativity\, community\, and compassion — all while making a difference for animals in need! \nEvent Details:  \n\nSaturday\, November 15\, 10 a.m. to 6 p.m. – Sunday\, November 16\, 10 a.m. to 5 p.m.\nAlachua County Sports & Event Center\, 4870 Celebration Pointe Ave\, Gainesville\, FL 32608
URL:https://www.humanesocietyncfl.org/event/infinity-con-ticket-fundraiser/
LOCATION:Alachua County Sports & Event Center\, 4870 Celebration Pointe Ave\, Gainesville\, FL\, 32608\, United States
CATEGORIES:Humane Society of North Central Florida,Shop for a Cause
ORGANIZER;CN="Infinity Con":MAILTO:info@infinitycon.com
END:VEVENT
END:VCALENDAR