BEGIN:VCALENDAR
VERSION:2.0
PRODID:-//Humane Society of North Central Florida - ECPv6.15.20//NONSGML v1.0//EN
CALSCALE:GREGORIAN
METHOD:PUBLISH
X-ORIGINAL-URL:https://www.humanesocietyncfl.org
X-WR-CALDESC:Events for Humane Society of North Central Florida
REFRESH-INTERVAL;VALUE=DURATION:PT1H
X-Robots-Tag:noindex
X-PUBLISHED-TTL:PT1H
BEGIN:VTIMEZONE
TZID:America/New_York
BEGIN:DAYLIGHT
TZOFFSETFROM:-0500
TZOFFSETTO:-0400
TZNAME:EDT
DTSTART:20240310T070000
END:DAYLIGHT
BEGIN:STANDARD
TZOFFSETFROM:-0400
TZOFFSETTO:-0500
TZNAME:EST
DTSTART:20241103T060000
END:STANDARD
BEGIN:DAYLIGHT
TZOFFSETFROM:-0500
TZOFFSETTO:-0400
TZNAME:EDT
DTSTART:20250309T070000
END:DAYLIGHT
BEGIN:STANDARD
TZOFFSETFROM:-0400
TZOFFSETTO:-0500
TZNAME:EST
DTSTART:20251102T060000
END:STANDARD
BEGIN:DAYLIGHT
TZOFFSETFROM:-0500
TZOFFSETTO:-0400
TZNAME:EDT
DTSTART:20260308T070000
END:DAYLIGHT
BEGIN:STANDARD
TZOFFSETFROM:-0400
TZOFFSETTO:-0500
TZNAME:EST
DTSTART:20261101T060000
END:STANDARD
END:VTIMEZONE
BEGIN:VEVENT
DTSTART;TZID=America/New_York:20251213T140000
DTEND;TZID=America/New_York:20251213T170000
DTSTAMP:20260423T111527
CREATED:20251120T181311Z
LAST-MODIFIED:20251120T213935Z
UID:5818-1765634400-1765645200@www.humanesocietyncfl.org
SUMMARY:Pours for Paws Wine Fundraiser Benefiting HSNCF
DESCRIPTION:Join us on December 6 and 13 for Pours for Paws: Puppies on the Patio\, hosted by Raise Your Glass Wine Bar and benefiting the Humane Society of North Central Florida. Bring your pup\, relax with a glass of wine\, and help support pets in need. All proceeds and donated pet supplies go directly to HSNCF. \nDecember 6: Donation Drive2–5 p.m.Stop by\, hang out on the patio\, and bring pet supplies to support animals in our care. \nDecember 13: Dog Show2–5 p.m. (Dog Show begins at 4 p.m.)Entry: $15 or a bag of dog foodRegister your pup by 3:30 p.m. to participate. \nChoose up to three categories for your dog to compete in:Waggiest Tail • Best Kisser • Bad Hair Day • Treat Catcher • Lookalike • Trickster • Ugly Sweater \nCome out for a fun afternoon\, support local pets\, and show off your pup’s best talents!
URL:https://www.humanesocietyncfl.org/event/pours-for-paws/
LOCATION:Raise Your Glass Wine Bar\, 7415 NW 4th Blvd suite 30\, Gainesville\, Florida\, 32607\, United States
CATEGORIES:Humane Society of North Central Florida
ORGANIZER;CN="Raise Your Glass Wine Bar":MAILTO:Manager@raiseyourglasswinebar.com
END:VEVENT
END:VCALENDAR