BEGIN:VCALENDAR
VERSION:2.0
PRODID:-//Humane Society of North Central Florida - ECPv6.15.20//NONSGML v1.0//EN
CALSCALE:GREGORIAN
METHOD:PUBLISH
X-WR-CALNAME:Humane Society of North Central Florida
X-ORIGINAL-URL:https://www.humanesocietyncfl.org
X-WR-CALDESC:Events for Humane Society of North Central Florida
REFRESH-INTERVAL;VALUE=DURATION:PT1H
X-Robots-Tag:noindex
X-PUBLISHED-TTL:PT1H
BEGIN:VTIMEZONE
TZID:America/New_York
BEGIN:DAYLIGHT
TZOFFSETFROM:-0500
TZOFFSETTO:-0400
TZNAME:EDT
DTSTART:20250309T070000
END:DAYLIGHT
BEGIN:STANDARD
TZOFFSETFROM:-0400
TZOFFSETTO:-0500
TZNAME:EST
DTSTART:20251102T060000
END:STANDARD
BEGIN:DAYLIGHT
TZOFFSETFROM:-0500
TZOFFSETTO:-0400
TZNAME:EDT
DTSTART:20260308T070000
END:DAYLIGHT
BEGIN:STANDARD
TZOFFSETFROM:-0400
TZOFFSETTO:-0500
TZNAME:EST
DTSTART:20261101T060000
END:STANDARD
BEGIN:DAYLIGHT
TZOFFSETFROM:-0500
TZOFFSETTO:-0400
TZNAME:EDT
DTSTART:20270314T070000
END:DAYLIGHT
BEGIN:STANDARD
TZOFFSETFROM:-0400
TZOFFSETTO:-0500
TZNAME:EST
DTSTART:20271107T060000
END:STANDARD
END:VTIMEZONE
BEGIN:VEVENT
DTSTART;TZID=America/New_York:20260328T113000
DTEND;TZID=America/New_York:20260328T133000
DTSTAMP:20260423T060553
CREATED:20260318T182326Z
LAST-MODIFIED:20260320T124545Z
UID:6371-1774697400-1774704600@www.humanesocietyncfl.org
SUMMARY:Pups on the Patio Wine Fundraiser Benefiting HSNCF
DESCRIPTION:Join us on Saturday\, March 28\, from 11:30 a.m. to 1:30 p.m.\, for Pups on the Patio\, hosted by Raise Your Glass Wine Bar and benefiting the Humane Society of North Central Florida. Bring your pup\, relax with a glass of wine\, participate in our raffle\, donate pet supplies for pets in need\, learn about our resources\, and support our efforts. All proceeds and donated pet supplies go directly to HSNCF. \nEvent Features: \n– Dog-friendly patio– Dog & cat-themed raffle baskets to win– Drinks and treats for humans– Treats for your pups– HSNCF resources on how to get involved and support our mission– Plenty of photo-worthy moments with your pets– Connect with our team and ask questions about fostering\, volunteering\, and adoption \nHave items to donate? Feel free to bring pet supplies when you stop by. Donations are greatly appreciated and help us care for the many animals in our shelter. \nOur Most Needed Items:   \n– Cat litter\n– Dry/wet dog and cat food\n– Kitten formula (KMR)\n– Dog and cat treats\n– Dog and cat toys\n– Paper towels\n– Original Dawn dish soap \nCan’t make it\, but still want to support us\, shop our Amazon\, Chewy\, and Walmart wish lists to send pet supplies directly to our shelter. \nCome out for a fun afternoon and support local pets!
URL:https://www.humanesocietyncfl.org/event/march-pups-on-patio/
LOCATION:Raise Your Glass Wine Bar\, 7415 NW 4th Blvd suite 30\, Gainesville\, Florida\, 32607\, United States
CATEGORIES:Humane Society of North Central Florida
ORGANIZER;CN="Raise Your Glass Wine Bar":MAILTO:Manager@raiseyourglasswinebar.com
END:VEVENT
END:VCALENDAR